BEGIN:VCALENDAR
VERSION:2.0
PRODID:-//Valley Lutheran School - ECPv6.15.20//NONSGML v1.0//EN
CALSCALE:GREGORIAN
METHOD:PUBLISH
X-WR-CALNAME:Valley Lutheran School
X-ORIGINAL-URL:https://vlscrusaders.org
X-WR-CALDESC:Events for Valley Lutheran School
REFRESH-INTERVAL;VALUE=DURATION:PT1H
X-Robots-Tag:noindex
X-PUBLISHED-TTL:PT1H
BEGIN:VTIMEZONE
TZID:America/Chicago
BEGIN:DAYLIGHT
TZOFFSETFROM:-0600
TZOFFSETTO:-0500
TZNAME:CDT
DTSTART:20250309T080000
END:DAYLIGHT
BEGIN:STANDARD
TZOFFSETFROM:-0500
TZOFFSETTO:-0600
TZNAME:CST
DTSTART:20251102T070000
END:STANDARD
BEGIN:DAYLIGHT
TZOFFSETFROM:-0600
TZOFFSETTO:-0500
TZNAME:CDT
DTSTART:20260308T080000
END:DAYLIGHT
BEGIN:STANDARD
TZOFFSETFROM:-0500
TZOFFSETTO:-0600
TZNAME:CST
DTSTART:20261101T070000
END:STANDARD
BEGIN:DAYLIGHT
TZOFFSETFROM:-0600
TZOFFSETTO:-0500
TZNAME:CDT
DTSTART:20270314T080000
END:DAYLIGHT
BEGIN:STANDARD
TZOFFSETFROM:-0500
TZOFFSETTO:-0600
TZNAME:CST
DTSTART:20271107T070000
END:STANDARD
END:VTIMEZONE
BEGIN:VEVENT
DTSTART;TZID=America/Chicago:20260103T110000
DTEND;TZID=America/Chicago:20260103T110000
DTSTAMP:20260421T151356
CREATED:20250930T233900Z
LAST-MODIFIED:20251020T183143Z
UID:7116-1767438000-1767438000@vlscrusaders.org
SUMMARY:Junior Varsity Boys Basketball
DESCRIPTION:Valley Lutheran vs Riceville
URL:https://vlscrusaders.org/event/junior-varsity-boys-basketball-7/
LOCATION:Riceville High School
CATEGORIES:Basketball,Boys Athletics
END:VEVENT
BEGIN:VEVENT
DTSTART;TZID=America/Chicago:20260103T121500
DTEND;TZID=America/Chicago:20260103T121500
DTSTAMP:20260421T151356
CREATED:20250930T233900Z
LAST-MODIFIED:20251020T183146Z
UID:7117-1767442500-1767442500@vlscrusaders.org
SUMMARY:Varsity Boys Basketball
DESCRIPTION:Valley Lutheran vs Riceville
URL:https://vlscrusaders.org/event/varsity-boys-basketball-7/
LOCATION:Riceville High School
CATEGORIES:Basketball,Boys Athletics
END:VEVENT
BEGIN:VEVENT
DTSTART;TZID=America/Chicago:20260106T160000
DTEND;TZID=America/Chicago:20260106T160000
DTSTAMP:20260421T151356
CREATED:20250930T233933Z
LAST-MODIFIED:20251020T183215Z
UID:7126-1767715200-1767715200@vlscrusaders.org
SUMMARY:Middle School Boys Basketball
DESCRIPTION:
URL:https://vlscrusaders.org/event/middle-school-boys-basketball-5/
LOCATION:Central Lutheran School
CATEGORIES:Basketball,Boys Athletics
END:VEVENT
BEGIN:VEVENT
DTSTART;TZID=America/Chicago:20260106T170000
DTEND;TZID=America/Chicago:20260106T170000
DTSTAMP:20260421T151356
CREATED:20250930T233933Z
LAST-MODIFIED:20251020T183220Z
UID:7127-1767718800-1767718800@vlscrusaders.org
SUMMARY:Junior Varsity Boys Basketball
DESCRIPTION:Valley Lutheran vs Tripoli
URL:https://vlscrusaders.org/event/junior-varsity-boys-basketball-8/
LOCATION:Tripoli High School Gym
CATEGORIES:Basketball,Boys Athletics
END:VEVENT
BEGIN:VEVENT
DTSTART;TZID=America/Chicago:20260106T183000
DTEND;TZID=America/Chicago:20260106T183000
DTSTAMP:20260421T151356
CREATED:20250930T233933Z
LAST-MODIFIED:20251020T183226Z
UID:7128-1767724200-1767724200@vlscrusaders.org
SUMMARY:Varsity Boys Basketball
DESCRIPTION:Valley Lutheran vs Tripoli
URL:https://vlscrusaders.org/event/varsity-boys-basketball-8/
LOCATION:Tripoli High School Gym
CATEGORIES:Basketball,Boys Athletics
END:VEVENT
BEGIN:VEVENT
DTSTART;TZID=America/Chicago:20260108T180000
DTEND;TZID=America/Chicago:20260108T180000
DTSTAMP:20260421T151356
CREATED:20250930T234006Z
LAST-MODIFIED:20251020T183232Z
UID:7137-1767895200-1767895200@vlscrusaders.org
SUMMARY:Junior Varsity Boys Basketball
DESCRIPTION:Valley Lutheran vs English Valleys
URL:https://vlscrusaders.org/event/junior-varsity-boys-basketball-9/
LOCATION:English Valleys High School Main Gym
CATEGORIES:Basketball,Boys Athletics
END:VEVENT
BEGIN:VEVENT
DTSTART;TZID=America/Chicago:20260108T193000
DTEND;TZID=America/Chicago:20260108T193000
DTSTAMP:20260421T151356
CREATED:20250930T234006Z
LAST-MODIFIED:20251020T183238Z
UID:7138-1767900600-1767900600@vlscrusaders.org
SUMMARY:Varsity Boys Basketball
DESCRIPTION:Valley Lutheran vs English Valleys
URL:https://vlscrusaders.org/event/varsity-boys-basketball-9/
LOCATION:English Valleys High School Main Gym
CATEGORIES:Basketball,Boys Athletics
END:VEVENT
BEGIN:VEVENT
DTSTART;TZID=America/Chicago:20260109T160000
DTEND;TZID=America/Chicago:20260109T160000
DTSTAMP:20260421T151356
CREATED:20250930T234023Z
LAST-MODIFIED:20251020T183455Z
UID:7141-1767974400-1767974400@vlscrusaders.org
SUMMARY:Middle School Boys Basketball
DESCRIPTION:
URL:https://vlscrusaders.org/event/middle-school-boys-basketball-6/
LOCATION:Valley Lutheran School Gym\, 4520 Rownd Street\, Cedar Falls\, 50613\, United States
CATEGORIES:Basketball,Boys Athletics
END:VEVENT
END:VCALENDAR