BEGIN:VCALENDAR
VERSION:2.0
PRODID:-//Valley Lutheran School - ECPv6.15.20//NONSGML v1.0//EN
CALSCALE:GREGORIAN
METHOD:PUBLISH
X-ORIGINAL-URL:https://vlscrusaders.org
X-WR-CALDESC:Events for Valley Lutheran School
REFRESH-INTERVAL;VALUE=DURATION:PT1H
X-Robots-Tag:noindex
X-PUBLISHED-TTL:PT1H
BEGIN:VTIMEZONE
TZID:America/Chicago
BEGIN:DAYLIGHT
TZOFFSETFROM:-0600
TZOFFSETTO:-0500
TZNAME:CDT
DTSTART:20250309T080000
END:DAYLIGHT
BEGIN:STANDARD
TZOFFSETFROM:-0500
TZOFFSETTO:-0600
TZNAME:CST
DTSTART:20251102T070000
END:STANDARD
BEGIN:DAYLIGHT
TZOFFSETFROM:-0600
TZOFFSETTO:-0500
TZNAME:CDT
DTSTART:20260308T080000
END:DAYLIGHT
BEGIN:STANDARD
TZOFFSETFROM:-0500
TZOFFSETTO:-0600
TZNAME:CST
DTSTART:20261101T070000
END:STANDARD
BEGIN:DAYLIGHT
TZOFFSETFROM:-0600
TZOFFSETTO:-0500
TZNAME:CDT
DTSTART:20270314T080000
END:DAYLIGHT
BEGIN:STANDARD
TZOFFSETFROM:-0500
TZOFFSETTO:-0600
TZNAME:CST
DTSTART:20271107T070000
END:STANDARD
END:VTIMEZONE
BEGIN:VEVENT
DTSTART;TZID=America/Chicago:20260511T180000
DTEND;TZID=America/Chicago:20260511T180000
DTSTAMP:20260421T135144
CREATED:20250930T235226Z
LAST-MODIFIED:20251020T191852Z
UID:7371-1778522400-1778522400@vlscrusaders.org
SUMMARY:Junior Varsity Boys Soccer
DESCRIPTION:Cedar Falls\, Cedar Rapids Jefferson
URL:https://vlscrusaders.org/event/junior-varsity-boys-soccer-4/
CATEGORIES:Boys Athletics,Soccer
END:VEVENT
BEGIN:VEVENT
DTSTART;TZID=America/Chicago:20260515T170000
DTEND;TZID=America/Chicago:20260515T170000
DTSTAMP:20260421T135144
CREATED:20250930T235242Z
LAST-MODIFIED:20251020T192057Z
UID:7375-1778864400-1778864400@vlscrusaders.org
SUMMARY:JV 1 Boys Soccer
DESCRIPTION:Cedar Falls\, Wahlert Catholic
URL:https://vlscrusaders.org/event/jv-1-boys-soccer-6/
CATEGORIES:Boys Athletics,Soccer
END:VEVENT
END:VCALENDAR