BEGIN:VCALENDAR
VERSION:2.0
PRODID:-//Valley Lutheran School - ECPv6.15.20//NONSGML v1.0//EN
CALSCALE:GREGORIAN
METHOD:PUBLISH
X-ORIGINAL-URL:https://vlscrusaders.org
X-WR-CALDESC:Events for Valley Lutheran School
REFRESH-INTERVAL;VALUE=DURATION:PT1H
X-Robots-Tag:noindex
X-PUBLISHED-TTL:PT1H
BEGIN:VTIMEZONE
TZID:America/Chicago
BEGIN:DAYLIGHT
TZOFFSETFROM:-0600
TZOFFSETTO:-0500
TZNAME:CDT
DTSTART:20240310T080000
END:DAYLIGHT
BEGIN:STANDARD
TZOFFSETFROM:-0500
TZOFFSETTO:-0600
TZNAME:CST
DTSTART:20241103T070000
END:STANDARD
BEGIN:DAYLIGHT
TZOFFSETFROM:-0600
TZOFFSETTO:-0500
TZNAME:CDT
DTSTART:20250309T080000
END:DAYLIGHT
BEGIN:STANDARD
TZOFFSETFROM:-0500
TZOFFSETTO:-0600
TZNAME:CST
DTSTART:20251102T070000
END:STANDARD
BEGIN:DAYLIGHT
TZOFFSETFROM:-0600
TZOFFSETTO:-0500
TZNAME:CDT
DTSTART:20260308T080000
END:DAYLIGHT
BEGIN:STANDARD
TZOFFSETFROM:-0500
TZOFFSETTO:-0600
TZNAME:CST
DTSTART:20261101T070000
END:STANDARD
END:VTIMEZONE
BEGIN:VEVENT
DTSTART;TZID=America/Chicago:20251004T030000
DTEND;TZID=America/Chicago:20251004T030000
DTSTAMP:20260421T210532
CREATED:20250930T232752Z
LAST-MODIFIED:20250930T232752Z
UID:6842-1759546800-1759546800@vlscrusaders.org
SUMMARY:Junior Varsity Volleyball
DESCRIPTION:GMG JV Volleyball Tournament: Belle Plaine\, Cedar Ridge Christian\, Colo-Nesco\, East Marshall\, GMG\, Grinnell
URL:https://vlscrusaders.org/event/junior-varsity-volleyball/
LOCATION:GMG High School (Garwin) Lower Gym
CATEGORIES:Volleyball
END:VEVENT
BEGIN:VEVENT
DTSTART;TZID=America/Chicago:20251007T111500
DTEND;TZID=America/Chicago:20251007T111500
DTSTAMP:20260421T210532
CREATED:20250930T232808Z
LAST-MODIFIED:20250930T232808Z
UID:6848-1759835700-1759835700@vlscrusaders.org
SUMMARY:Middle School Girls Cross Country
DESCRIPTION:DNH Wolverine XC Invitational: Aplington-Parkersburg\, Baxter\, BCLUW\, Benton\, BGM\, Bunger MS Waterloo\, Cedar Ridge Christian\, Central MS Waterloo\, Charles City\, Denver\, Dike-New Hartford\, Dunkerton\, George Washington Carver Waterloo\, Gladbrook-Reinbeck\, Grundy Center\, Holmes JH Cedar Falls\, Hoover MS Waterloo\, Hudson\, Janesville\, Jesup\, Sumner-Fredericksburg\, Union Community\, Wapsie Valley\, Waterloo East\, Waterloo East\, Waverly-Shell Rock\, West Marshall
URL:https://vlscrusaders.org/event/middle-school-girls-cross-country/
LOCATION:Fox Ridge Golf Course
CATEGORIES:Cross Country
END:VEVENT
BEGIN:VEVENT
DTSTART;TZID=America/Chicago:20251007T113000
DTEND;TZID=America/Chicago:20251007T113000
DTSTAMP:20260421T210532
CREATED:20250930T232808Z
LAST-MODIFIED:20250930T232808Z
UID:6849-1759836600-1759836600@vlscrusaders.org
SUMMARY:Middle School Boys Cross Country
DESCRIPTION:DNH Wolverine XC Invitational: Aplington-Parkersburg\, Baxter\, BCLUW\, Benton\, BGM\, Bunger MS Waterloo\, Cedar Ridge Christian\, Central MS Waterloo\, Charles City\, Denver\, Dike-New Hartford\, Dunkerton\, George Washington Carver Waterloo\, Gladbrook-Reinbeck\, Grundy Center\, Holmes JH Cedar Falls\, Hoover MS Waterloo\, Hudson\, Janesville\, Jesup\, Sumner-Fredericksburg\, Union Community\, Wapsie Valley\, Waterloo East\, Waterloo East\, Waverly-Shell Rock\, West Marshall
URL:https://vlscrusaders.org/event/middle-school-boys-cross-country/
LOCATION:Fox Ridge Golf Course
CATEGORIES:Cross Country
END:VEVENT
BEGIN:VEVENT
DTSTART;TZID=America/Chicago:20251007T113000
DTEND;TZID=America/Chicago:20251007T113000
DTSTAMP:20260421T210532
CREATED:20250930T232825Z
LAST-MODIFIED:20250930T232826Z
UID:6854-1759836600-1759836600@vlscrusaders.org
SUMMARY:Middle School Volleyball
DESCRIPTION:FALSE
URL:https://vlscrusaders.org/event/middle-school-volleyball/
LOCATION:Heritage Christian School
CATEGORIES:Volleyball
END:VEVENT
BEGIN:VEVENT
DTSTART;TZID=America/Chicago:20251007T114500
DTEND;TZID=America/Chicago:20251007T114500
DTSTAMP:20260421T210532
CREATED:20250930T232825Z
LAST-MODIFIED:20250930T232826Z
UID:6850-1759837500-1759837500@vlscrusaders.org
SUMMARY:Level 2 Girls Cross Country
DESCRIPTION:DNH Wolverine XC Invitational: Aplington-Parkersburg\, Baxter\, BCLUW\, Benton\, BGM\, Bunger MS Waterloo\, Cedar Ridge Christian\, Central MS Waterloo\, Charles City\, Denver\, Dike-New Hartford\, Dunkerton\, George Washington Carver Waterloo\, Gladbrook-Reinbeck\, Grundy Center\, Holmes JH Cedar Falls\, Hoover MS Waterloo\, Hudson\, Janesville\, Jesup\, Sumner-Fredericksburg\, Union Community\, Wapsie Valley\, Waterloo East\, Waterloo East\, Waverly-Shell Rock\, West Marshall
URL:https://vlscrusaders.org/event/level-2-girls-cross-country/
LOCATION:Fox Ridge Golf Course
CATEGORIES:Cross Country
END:VEVENT
BEGIN:VEVENT
DTSTART;TZID=America/Chicago:20251007T121500
DTEND;TZID=America/Chicago:20251007T121500
DTSTAMP:20260421T210532
CREATED:20250930T232825Z
LAST-MODIFIED:20250930T232826Z
UID:6851-1759839300-1759839300@vlscrusaders.org
SUMMARY:Level 2 Boys Cross Country
DESCRIPTION:DNH Wolverine XC Invitational: Aplington-Parkersburg\, Baxter\, BCLUW\, Benton\, BGM\, Bunger MS Waterloo\, Cedar Ridge Christian\, Central MS Waterloo\, Charles City\, Denver\, Dike-New Hartford\, Dunkerton\, George Washington Carver Waterloo\, Gladbrook-Reinbeck\, Grundy Center\, Holmes JH Cedar Falls\, Hoover MS Waterloo\, Hudson\, Janesville\, Jesup\, Sumner-Fredericksburg\, Union Community\, Wapsie Valley\, Waterloo East\, Waterloo East\, Waverly-Shell Rock\, West Marshall
URL:https://vlscrusaders.org/event/level-2-boys-cross-country/
LOCATION:Fox Ridge Golf Course
CATEGORIES:Cross Country
END:VEVENT
BEGIN:VEVENT
DTSTART;TZID=America/Chicago:20251007T124500
DTEND;TZID=America/Chicago:20251007T124500
DTSTAMP:20260421T210532
CREATED:20250930T232825Z
LAST-MODIFIED:20250930T232826Z
UID:6852-1759841100-1759841100@vlscrusaders.org
SUMMARY:Varsity Girls Cross Country
DESCRIPTION:DNH Wolverine XC Invitational: Aplington-Parkersburg\, Baxter\, BCLUW\, Benton\, BGM\, Bunger MS Waterloo\, Cedar Ridge Christian\, Central MS Waterloo\, Charles City\, Denver\, Dike-New Hartford\, Dunkerton\, George Washington Carver Waterloo\, Gladbrook-Reinbeck\, Grundy Center\, Holmes JH Cedar Falls\, Hoover MS Waterloo\, Hudson\, Janesville\, Jesup\, Sumner-Fredericksburg\, Union Community\, Wapsie Valley\, Waterloo East\, Waterloo East\, Waverly-Shell Rock\, West Marshall
URL:https://vlscrusaders.org/event/varsity-girls-cross-country/
LOCATION:Fox Ridge Golf Course
CATEGORIES:Cross Country
END:VEVENT
BEGIN:VEVENT
DTSTART;TZID=America/Chicago:20251007T131500
DTEND;TZID=America/Chicago:20251007T131500
DTSTAMP:20260421T210532
CREATED:20250930T232825Z
LAST-MODIFIED:20250930T232826Z
UID:6853-1759842900-1759842900@vlscrusaders.org
SUMMARY:Varsity Boys Cross Country
DESCRIPTION:DNH Wolverine XC Invitational: Aplington-Parkersburg\, Baxter\, BCLUW\, Benton\, BGM\, Bunger MS Waterloo\, Cedar Ridge Christian\, Central MS Waterloo\, Charles City\, Denver\, Dike-New Hartford\, Dunkerton\, George Washington Carver Waterloo\, Gladbrook-Reinbeck\, Grundy Center\, Holmes JH Cedar Falls\, Hoover MS Waterloo\, Hudson\, Janesville\, Jesup\, Sumner-Fredericksburg\, Union Community\, Wapsie Valley\, Waterloo East\, Waterloo East\, Waverly-Shell Rock\, West Marshall
URL:https://vlscrusaders.org/event/varsity-boys-cross-country/
LOCATION:Fox Ridge Golf Course
CATEGORIES:Cross Country
END:VEVENT
BEGIN:VEVENT
DTSTART;TZID=America/Chicago:20251009T130000
DTEND;TZID=America/Chicago:20251009T130000
DTSTAMP:20260421T210532
CREATED:20250930T232915Z
LAST-MODIFIED:20250930T232915Z
UID:6872-1760014800-1760014800@vlscrusaders.org
SUMMARY:Varsity Volleyball
DESCRIPTION:BCLUW vs Collins-Maxwell
URL:https://vlscrusaders.org/event/varsity-volleyball/
LOCATION:Collins-Maxwell High School
CATEGORIES:Volleyball
END:VEVENT
BEGIN:VEVENT
DTSTART;TZID=America/Chicago:20251009T130000
DTEND;TZID=America/Chicago:20251009T130000
DTSTAMP:20260421T210532
CREATED:20250930T232931Z
LAST-MODIFIED:20250930T232932Z
UID:6876-1760014800-1760014800@vlscrusaders.org
SUMMARY:Freshman/Sophomore Volleyball
DESCRIPTION:Valley Lutheran vs Collins-Maxwell
URL:https://vlscrusaders.org/event/freshman-sophomore-volleyball-2/
LOCATION:Collins-Maxwell High School
CATEGORIES:Volleyball
END:VEVENT
BEGIN:VEVENT
DTSTART;TZID=America/Chicago:20251009T134500
DTEND;TZID=America/Chicago:20251009T134500
DTSTAMP:20260421T210532
CREATED:20250930T232915Z
LAST-MODIFIED:20250930T232932Z
UID:6873-1760017500-1760017500@vlscrusaders.org
SUMMARY:Junior Varsity Volleyball
DESCRIPTION:Valley Lutheran vs Collins-Maxwell
URL:https://vlscrusaders.org/event/junior-varsity-volleyball-2/
LOCATION:Collins-Maxwell High School
CATEGORIES:Volleyball
END:VEVENT
BEGIN:VEVENT
DTSTART;TZID=America/Chicago:20251009T143000
DTEND;TZID=America/Chicago:20251009T143000
DTSTAMP:20260421T210532
CREATED:20250930T232915Z
LAST-MODIFIED:20250930T232915Z
UID:6874-1760020200-1760020200@vlscrusaders.org
SUMMARY:Junior Varsity Volleyball
DESCRIPTION:BCLUW vs Collins-Maxwell
URL:https://vlscrusaders.org/event/junior-varsity-volleyball-3/
LOCATION:Collins-Maxwell High School
CATEGORIES:Volleyball
END:VEVENT
BEGIN:VEVENT
DTSTART;TZID=America/Chicago:20251009T143000
DTEND;TZID=America/Chicago:20251009T143000
DTSTAMP:20260421T210532
CREATED:20250930T232931Z
LAST-MODIFIED:20250930T232932Z
UID:6879-1760020200-1760020200@vlscrusaders.org
SUMMARY:Varsity Volleyball
DESCRIPTION:Valley Lutheran vs Collins-Maxwell
URL:https://vlscrusaders.org/event/varsity-volleyball-3/
LOCATION:Collins-Maxwell High School
CATEGORIES:Volleyball
END:VEVENT
BEGIN:VEVENT
DTSTART;TZID=America/Chicago:20251009T150000
DTEND;TZID=America/Chicago:20251009T150000
DTSTAMP:20260421T210532
CREATED:20250930T232931Z
LAST-MODIFIED:20250930T232932Z
UID:6875-1760022000-1760022000@vlscrusaders.org
SUMMARY:Varsity Volleyball
DESCRIPTION:BCLUW vs Collins-Maxwell
URL:https://vlscrusaders.org/event/varsity-volleyball-2/
LOCATION:Collins-Maxwell High School
CATEGORIES:Volleyball
END:VEVENT
BEGIN:VEVENT
DTSTART;TZID=America/Chicago:20251010T113000
DTEND;TZID=America/Chicago:20251010T113000
DTSTAMP:20260421T210532
CREATED:20250930T232948Z
LAST-MODIFIED:20250930T232948Z
UID:6888-1760095800-1760095800@vlscrusaders.org
SUMMARY:Level 5 Volleyball
DESCRIPTION:FALSE
URL:https://vlscrusaders.org/event/level-5-volleyball/
LOCATION:Valley Lutheran School Gym\, 4520 Rownd Street\, Cedar Falls\, 50613\, United States
CATEGORIES:Volleyball
END:VEVENT
END:VCALENDAR