BEGIN:VCALENDAR
VERSION:2.0
PRODID:-//Valley Lutheran School - ECPv6.15.20//NONSGML v1.0//EN
CALSCALE:GREGORIAN
METHOD:PUBLISH
X-ORIGINAL-URL:https://vlscrusaders.org
X-WR-CALDESC:Events for Valley Lutheran School
REFRESH-INTERVAL;VALUE=DURATION:PT1H
X-Robots-Tag:noindex
X-PUBLISHED-TTL:PT1H
BEGIN:VTIMEZONE
TZID:America/Chicago
BEGIN:DAYLIGHT
TZOFFSETFROM:-0600
TZOFFSETTO:-0500
TZNAME:CDT
DTSTART:20250309T080000
END:DAYLIGHT
BEGIN:STANDARD
TZOFFSETFROM:-0500
TZOFFSETTO:-0600
TZNAME:CST
DTSTART:20251102T070000
END:STANDARD
BEGIN:DAYLIGHT
TZOFFSETFROM:-0600
TZOFFSETTO:-0500
TZNAME:CDT
DTSTART:20260308T080000
END:DAYLIGHT
BEGIN:STANDARD
TZOFFSETFROM:-0500
TZOFFSETTO:-0600
TZNAME:CST
DTSTART:20261101T070000
END:STANDARD
BEGIN:DAYLIGHT
TZOFFSETFROM:-0600
TZOFFSETTO:-0500
TZNAME:CDT
DTSTART:20270314T080000
END:DAYLIGHT
BEGIN:STANDARD
TZOFFSETFROM:-0500
TZOFFSETTO:-0600
TZNAME:CST
DTSTART:20271107T070000
END:STANDARD
END:VTIMEZONE
BEGIN:VEVENT
DTSTART;TZID=America/Chicago:20260425T080000
DTEND;TZID=America/Chicago:20260425T080000
DTSTAMP:20260421T122450
CREATED:20250930T235031Z
LAST-MODIFIED:20251020T191339Z
UID:7338-1777104000-1777104000@vlscrusaders.org
SUMMARY:Varsity Boys Track & Field
DESCRIPTION:116th Drake Relays
URL:https://vlscrusaders.org/event/varsity-boys-track-field-7/
CATEGORIES:Boys Athletics,Track & Field
END:VEVENT
BEGIN:VEVENT
DTSTART;TZID=America/Chicago:20260425T080000
DTEND;TZID=America/Chicago:20260425T080000
DTSTAMP:20260421T122450
CREATED:20250930T235047Z
LAST-MODIFIED:20251020T191351Z
UID:7339-1777104000-1777104000@vlscrusaders.org
SUMMARY:Varsity Girls Track & Field
DESCRIPTION:116th Drake Relays
URL:https://vlscrusaders.org/event/varsity-girls-track-field-6/
CATEGORIES:Girls Athletics,Track & Field
END:VEVENT
BEGIN:VEVENT
DTSTART;TZID=America/Chicago:20260430T170000
DTEND;TZID=America/Chicago:20260430T170000
DTSTAMP:20260421T122450
CREATED:20250930T235104Z
LAST-MODIFIED:20251020T191410Z
UID:7348-1777568400-1777568400@vlscrusaders.org
SUMMARY:Varsity Boys Track & Field
DESCRIPTION:Simons Relays: Belmond-Klemme\, Central Springs\, Dike-New Hartford\, Iowa Falls-Alden\, Janesville\, Nashua-Plainfield\, Saint Ansgar\, Tripoli
URL:https://vlscrusaders.org/event/varsity-boys-track-field-8/
CATEGORIES:Boys Athletics,Track & Field
END:VEVENT
BEGIN:VEVENT
DTSTART;TZID=America/Chicago:20260501T161500
DTEND;TZID=America/Chicago:20260501T161500
DTSTAMP:20260421T122450
CREATED:20250930T235120Z
LAST-MODIFIED:20251020T191419Z
UID:7349-1777652100-1777652100@vlscrusaders.org
SUMMARY:Middle School Girls Track & Field
DESCRIPTION:2024 DNH JH Coed Meet: Cedar Ridge Christian\, Clarksville\, Dike-New Hartford\, Dike-New Hartford\, Don Bosco\, Dunkerton\, Janesville\, St. Patrick
URL:https://vlscrusaders.org/event/middle-school-girls-track-field-2/
CATEGORIES:Girls Athletics,Track & Field
END:VEVENT
BEGIN:VEVENT
DTSTART;TZID=America/Chicago:20260501T161500
DTEND;TZID=America/Chicago:20260501T161500
DTSTAMP:20260421T122450
CREATED:20250930T235120Z
LAST-MODIFIED:20251020T191428Z
UID:7350-1777652100-1777652100@vlscrusaders.org
SUMMARY:Middle School Boys Track & Field
DESCRIPTION:2025 DNH JH Coed Meet: Cedar Ridge Christian\, Clarksville\, Dike-New Hartford\, Dike-New Hartford\, Don Bosco\, Dunkerton\, Janesville\, St. Patrick
URL:https://vlscrusaders.org/event/middle-school-boys-track-field-2/
CATEGORIES:Boys Athletics,Track & Field
END:VEVENT
BEGIN:VEVENT
DTSTART;TZID=America/Chicago:20260501T170000
DTEND;TZID=America/Chicago:20260501T170000
DTSTAMP:20260421T122450
CREATED:20250930T235120Z
LAST-MODIFIED:20251020T191558Z
UID:7351-1777654800-1777654800@vlscrusaders.org
SUMMARY:Junior Varsity Boys Soccer
DESCRIPTION:2026 DNH JH Coed Meet: Cedar Ridge Christian\, Clarksville\, Dike-New Hartford\, Dike-New Hartford\, Don Bosco\, Dunkerton\, Janesville\, St. Patrick
URL:https://vlscrusaders.org/event/junior-varsity-boys-soccer/
LOCATION:Cedar Falls High School
CATEGORIES:Boys Athletics,Soccer
END:VEVENT
END:VCALENDAR