BEGIN:VCALENDAR
VERSION:2.0
PRODID:-//Valley Lutheran School - ECPv6.15.20//NONSGML v1.0//EN
CALSCALE:GREGORIAN
METHOD:PUBLISH
X-WR-CALNAME:Valley Lutheran School
X-ORIGINAL-URL:https://vlscrusaders.org
X-WR-CALDESC:Events for Valley Lutheran School
REFRESH-INTERVAL;VALUE=DURATION:PT1H
X-Robots-Tag:noindex
X-PUBLISHED-TTL:PT1H
BEGIN:VTIMEZONE
TZID:America/Chicago
BEGIN:DAYLIGHT
TZOFFSETFROM:-0600
TZOFFSETTO:-0500
TZNAME:CDT
DTSTART:20240310T080000
END:DAYLIGHT
BEGIN:STANDARD
TZOFFSETFROM:-0500
TZOFFSETTO:-0600
TZNAME:CST
DTSTART:20241103T070000
END:STANDARD
BEGIN:DAYLIGHT
TZOFFSETFROM:-0600
TZOFFSETTO:-0500
TZNAME:CDT
DTSTART:20250309T080000
END:DAYLIGHT
BEGIN:STANDARD
TZOFFSETFROM:-0500
TZOFFSETTO:-0600
TZNAME:CST
DTSTART:20251102T070000
END:STANDARD
BEGIN:DAYLIGHT
TZOFFSETFROM:-0600
TZOFFSETTO:-0500
TZNAME:CDT
DTSTART:20260308T080000
END:DAYLIGHT
BEGIN:STANDARD
TZOFFSETFROM:-0500
TZOFFSETTO:-0600
TZNAME:CST
DTSTART:20261101T070000
END:STANDARD
BEGIN:DAYLIGHT
TZOFFSETFROM:-0600
TZOFFSETTO:-0500
TZNAME:CDT
DTSTART:20270314T080000
END:DAYLIGHT
BEGIN:STANDARD
TZOFFSETFROM:-0500
TZOFFSETTO:-0600
TZNAME:CST
DTSTART:20271107T070000
END:STANDARD
END:VTIMEZONE
BEGIN:VEVENT
DTSTART;TZID=America/Chicago:20251204T170000
DTEND;TZID=America/Chicago:20251204T170000
DTSTAMP:20260423T030151
CREATED:20250930T233558Z
LAST-MODIFIED:20251020T181953Z
UID:7033-1764867600-1764867600@vlscrusaders.org
SUMMARY:Junior Varsity Boys Basketball
DESCRIPTION:Valley Lutheran vs BCLUW
URL:https://vlscrusaders.org/event/junior-varsity-boys-basketball-2/
LOCATION:BCLUW High School Gym
CATEGORIES:Basketball,Boys Athletics
END:VEVENT
BEGIN:VEVENT
DTSTART;TZID=America/Chicago:20251204T183000
DTEND;TZID=America/Chicago:20251204T183000
DTSTAMP:20260423T030151
CREATED:20250930T233613Z
LAST-MODIFIED:20251020T182001Z
UID:7034-1764873000-1764873000@vlscrusaders.org
SUMMARY:Varsity Girls Basketball
DESCRIPTION:Valley Lutheran vs BCLUW
URL:https://vlscrusaders.org/event/varsity-girls-basketball-2/
LOCATION:BCLUW High School Gym
CATEGORIES:Basketball,Girls Athletics
END:VEVENT
BEGIN:VEVENT
DTSTART;TZID=America/Chicago:20251204T194500
DTEND;TZID=America/Chicago:20251204T194500
DTSTAMP:20260423T030151
CREATED:20250930T233613Z
LAST-MODIFIED:20251020T182005Z
UID:7035-1764877500-1764877500@vlscrusaders.org
SUMMARY:Varsity Boys Basketball
DESCRIPTION:Valley Lutheran vs BCLUW
URL:https://vlscrusaders.org/event/varsity-boys-basketball-2/
LOCATION:BCLUW High School Gym
CATEGORIES:Basketball,Boys Athletics
END:VEVENT
BEGIN:VEVENT
DTSTART;TZID=America/Chicago:20251205T160000
DTEND;TZID=America/Chicago:20251205T160000
DTSTAMP:20260423T030151
CREATED:20250930T233632Z
LAST-MODIFIED:20251020T182011Z
UID:7049-1764950400-1764950400@vlscrusaders.org
SUMMARY:Junior Varsity Girls Basketball
DESCRIPTION:Valley Lutheran vs Collins-Maxwell
URL:https://vlscrusaders.org/event/junior-varsity-girls-basketball-3/
LOCATION:Collins-Maxwell High School
CATEGORIES:Basketball,Girls Athletics
END:VEVENT
BEGIN:VEVENT
DTSTART;TZID=America/Chicago:20251205T160000
DTEND;TZID=America/Chicago:20251205T160000
DTSTAMP:20260423T030151
CREATED:20250930T233632Z
LAST-MODIFIED:20251020T182020Z
UID:7053-1764950400-1764950400@vlscrusaders.org
SUMMARY:Middle School Girls Basketball
DESCRIPTION:
URL:https://vlscrusaders.org/event/middle-school-girls-basketball-2/
CATEGORIES:Basketball,Girls Athletics
END:VEVENT
BEGIN:VEVENT
DTSTART;TZID=America/Chicago:20251205T160000
DTEND;TZID=America/Chicago:20251205T160000
DTSTAMP:20260423T030151
CREATED:20250930T233647Z
LAST-MODIFIED:20251020T182030Z
UID:7054-1764950400-1764950400@vlscrusaders.org
SUMMARY:Middle School Boys Basketball
DESCRIPTION:
URL:https://vlscrusaders.org/event/middle-school-boys-basketball-2/
CATEGORIES:Basketball,Boys Athletics
END:VEVENT
BEGIN:VEVENT
DTSTART;TZID=America/Chicago:20251205T170000
DTEND;TZID=America/Chicago:20251205T170000
DTSTAMP:20260423T030151
CREATED:20250930T233632Z
LAST-MODIFIED:20251020T182036Z
UID:7050-1764954000-1764954000@vlscrusaders.org
SUMMARY:Junior Varsity Boys Basketball
DESCRIPTION:Valley Lutheran vs Collins-Maxwell
URL:https://vlscrusaders.org/event/junior-varsity-boys-basketball-3/
LOCATION:Collins-Maxwell High School
CATEGORIES:Basketball,Boys Athletics
END:VEVENT
BEGIN:VEVENT
DTSTART;TZID=America/Chicago:20251205T183000
DTEND;TZID=America/Chicago:20251205T183000
DTSTAMP:20260423T030151
CREATED:20250930T233632Z
LAST-MODIFIED:20251020T182201Z
UID:7051-1764959400-1764959400@vlscrusaders.org
SUMMARY:Varsity Girls Basketball
DESCRIPTION:Valley Lutheran vs Collins-Maxwell
URL:https://vlscrusaders.org/event/varsity-girls-basketball-3/
LOCATION:Collins-Maxwell High School
CATEGORIES:Basketball,Girls Athletics
END:VEVENT
BEGIN:VEVENT
DTSTART;TZID=America/Chicago:20251205T194500
DTEND;TZID=America/Chicago:20251205T194500
DTSTAMP:20260423T030151
CREATED:20250930T233632Z
LAST-MODIFIED:20251020T182246Z
UID:7052-1764963900-1764963900@vlscrusaders.org
SUMMARY:Varsity Boys Basketball
DESCRIPTION:Valley Lutheran vs Collins-Maxwell
URL:https://vlscrusaders.org/event/varsity-boys-basketball-3/
LOCATION:Collins-Maxwell High School
CATEGORIES:Basketball,Boys Athletics
END:VEVENT
BEGIN:VEVENT
DTSTART;TZID=America/Chicago:20251209T160000
DTEND;TZID=America/Chicago:20251209T160000
DTSTAMP:20260423T030151
CREATED:20250930T233649Z
LAST-MODIFIED:20251020T182251Z
UID:7061-1765296000-1765296000@vlscrusaders.org
SUMMARY:Junior Varsity Girls Basketball
DESCRIPTION:Meskwaki Settlement vs Valley Lutheran
URL:https://vlscrusaders.org/event/junior-varsity-girls-basketball-4/
LOCATION:Valley Lutheran School\, 4520 Rownd Street\, Cedar Falls\, 50613\, United States
CATEGORIES:Basketball,Girls Athletics
END:VEVENT
BEGIN:VEVENT
DTSTART;TZID=America/Chicago:20251209T170000
DTEND;TZID=America/Chicago:20251209T170000
DTSTAMP:20260423T030151
CREATED:20250930T233649Z
LAST-MODIFIED:20251020T182256Z
UID:7062-1765299600-1765299600@vlscrusaders.org
SUMMARY:Junior Varsity Boys Basketball
DESCRIPTION:Meskwaki Settlement vs Valley Lutheran
URL:https://vlscrusaders.org/event/junior-varsity-boys-basketball-4/
LOCATION:Valley Lutheran School\, 4520 Rownd Street\, Cedar Falls\, 50613\, United States
CATEGORIES:Basketball,Boys Athletics
END:VEVENT
BEGIN:VEVENT
DTSTART;TZID=America/Chicago:20251209T183000
DTEND;TZID=America/Chicago:20251209T183000
DTSTAMP:20260423T030151
CREATED:20250930T233649Z
LAST-MODIFIED:20251020T182301Z
UID:7063-1765305000-1765305000@vlscrusaders.org
SUMMARY:Varsity Girls Basketball
DESCRIPTION:Meskwaki Settlement vs Valley Lutheran
URL:https://vlscrusaders.org/event/varsity-girls-basketball-4/
LOCATION:Valley Lutheran School Gym\, 4520 Rownd Street\, Cedar Falls\, 50613\, United States
CATEGORIES:Basketball,Girls Athletics
END:VEVENT
BEGIN:VEVENT
DTSTART;TZID=America/Chicago:20251209T194500
DTEND;TZID=America/Chicago:20251209T194500
DTSTAMP:20260423T030151
CREATED:20250930T233704Z
LAST-MODIFIED:20251020T182319Z
UID:7064-1765309500-1765309500@vlscrusaders.org
SUMMARY:Varsity Boys Basketball
DESCRIPTION:Meskwaki Settlement vs Valley Lutheran
URL:https://vlscrusaders.org/event/varsity-boys-basketball-4/
LOCATION:Valley Lutheran School\, 4520 Rownd Street\, Cedar Falls\, 50613\, United States
CATEGORIES:Basketball,Boys Athletics
END:VEVENT
BEGIN:VEVENT
DTSTART;TZID=America/Chicago:20251212T160000
DTEND;TZID=America/Chicago:20251212T160000
DTSTAMP:20260423T030151
CREATED:20250930T233706Z
LAST-MODIFIED:20251020T182328Z
UID:7069-1765555200-1765555200@vlscrusaders.org
SUMMARY:Middle School Boys Basketball
DESCRIPTION:
URL:https://vlscrusaders.org/event/middle-school-boys-basketball-3/
LOCATION:Valley Lutheran School Gym\, 4520 Rownd Street\, Cedar Falls\, 50613\, United States
CATEGORIES:Basketball,Boys Athletics
END:VEVENT
BEGIN:VEVENT
DTSTART;TZID=America/Chicago:20251212T160000
DTEND;TZID=America/Chicago:20251212T160000
DTSTAMP:20260423T030151
CREATED:20250930T233706Z
LAST-MODIFIED:20251020T182337Z
UID:7070-1765555200-1765555200@vlscrusaders.org
SUMMARY:Middle School Girls Basketball
DESCRIPTION:
URL:https://vlscrusaders.org/event/middle-school-girls-basketball-3/
LOCATION:Valley Lutheran School Gym\, 4520 Rownd Street\, Cedar Falls\, 50613\, United States
CATEGORIES:Basketball,Girls Athletics
END:VEVENT
BEGIN:VEVENT
DTSTART;TZID=America/Chicago:20251215T000000
DTEND;TZID=America/Chicago:20251215T000000
DTSTAMP:20260423T030151
CREATED:20250930T233721Z
LAST-MODIFIED:20251020T182619Z
UID:7075-1765756800-1765756800@vlscrusaders.org
SUMMARY:Junior Varsity Boys Basketball
DESCRIPTION:West Central vs Valley Lutheran
URL:https://vlscrusaders.org/event/junior-varsity-boys-basketball-5/
CATEGORIES:Basketball,Boys Athletics
END:VEVENT
BEGIN:VEVENT
DTSTART;TZID=America/Chicago:20251215T180000
DTEND;TZID=America/Chicago:20251215T180000
DTSTAMP:20260423T030151
CREATED:20250930T233721Z
LAST-MODIFIED:20251020T182620Z
UID:7076-1765821600-1765821600@vlscrusaders.org
SUMMARY:Varsity Boys Basketball
DESCRIPTION:West Central vs Valley Lutheran
URL:https://vlscrusaders.org/event/varsity-boys-basketball-5/
LOCATION:Valley Lutheran School Gym\, 4520 Rownd Street\, Cedar Falls\, 50613\, United States
CATEGORIES:Basketball,Boys Athletics
END:VEVENT
BEGIN:VEVENT
DTSTART;TZID=America/Chicago:20251216T160000
DTEND;TZID=America/Chicago:20251216T160000
DTSTAMP:20260423T030151
CREATED:20250930T233721Z
LAST-MODIFIED:20251020T182628Z
UID:7077-1765900800-1765900800@vlscrusaders.org
SUMMARY:Junior Varsity Girls Basketball
DESCRIPTION:Baxter vs Valley Lutheran
URL:https://vlscrusaders.org/event/junior-varsity-girls-basketball-5/
LOCATION:Valley Lutheran School\, 4520 Rownd Street\, Cedar Falls\, 50613\, United States
CATEGORIES:Basketball,Girls Athletics
END:VEVENT
BEGIN:VEVENT
DTSTART;TZID=America/Chicago:20251216T170000
DTEND;TZID=America/Chicago:20251216T170000
DTSTAMP:20260423T030151
CREATED:20250930T233722Z
LAST-MODIFIED:20251020T182651Z
UID:7078-1765904400-1765904400@vlscrusaders.org
SUMMARY:Junior Varsity Boys Basketball
DESCRIPTION:Baxter vs Valley Lutheran
URL:https://vlscrusaders.org/event/junior-varsity-boys-basketball-6/
LOCATION:Valley Lutheran School\, 4520 Rownd Street\, Cedar Falls\, 50613\, United States
CATEGORIES:Basketball,Boys Athletics
END:VEVENT
BEGIN:VEVENT
DTSTART;TZID=America/Chicago:20251216T183000
DTEND;TZID=America/Chicago:20251216T183000
DTSTAMP:20260423T030151
CREATED:20250930T233723Z
LAST-MODIFIED:20251020T182657Z
UID:7079-1765909800-1765909800@vlscrusaders.org
SUMMARY:Varsity Girls Basketball
DESCRIPTION:Baxter vs Valley Lutheran
URL:https://vlscrusaders.org/event/varsity-girls-basketball-5/
LOCATION:Valley Lutheran School Gym\, 4520 Rownd Street\, Cedar Falls\, 50613\, United States
CATEGORIES:Basketball,Girls Athletics
END:VEVENT
BEGIN:VEVENT
DTSTART;TZID=America/Chicago:20251216T194500
DTEND;TZID=America/Chicago:20251216T194500
DTSTAMP:20260423T030151
CREATED:20250930T233723Z
LAST-MODIFIED:20251020T182702Z
UID:7080-1765914300-1765914300@vlscrusaders.org
SUMMARY:Varsity Boys Basketball
DESCRIPTION:Baxter vs Valley Lutheran
URL:https://vlscrusaders.org/event/varsity-boys-basketball-6/
LOCATION:Valley Lutheran School\, 4520 Rownd Street\, Cedar Falls\, 50613\, United States
CATEGORIES:Basketball,Boys Athletics
END:VEVENT
BEGIN:VEVENT
DTSTART;TZID=America/Chicago:20251218T160000
DTEND;TZID=America/Chicago:20251218T160000
DTSTAMP:20260423T030151
CREATED:20250930T233738Z
LAST-MODIFIED:20251020T182728Z
UID:7087-1766073600-1766073600@vlscrusaders.org
SUMMARY:Middle School Girls Basketball
DESCRIPTION:
URL:https://vlscrusaders.org/event/middle-school-girls-basketball-4/
LOCATION:Heritage Christian School
CATEGORIES:Basketball,Girls Athletics
END:VEVENT
BEGIN:VEVENT
DTSTART;TZID=America/Chicago:20251218T160000
DTEND;TZID=America/Chicago:20251218T160000
DTSTAMP:20260423T030151
CREATED:20250930T233739Z
LAST-MODIFIED:20251020T182736Z
UID:7088-1766073600-1766073600@vlscrusaders.org
SUMMARY:Middle School Boys Basketball
DESCRIPTION:
URL:https://vlscrusaders.org/event/middle-school-boys-basketball-4/
LOCATION:Heritage Christian School
CATEGORIES:Basketball,Boys Athletics
END:VEVENT
BEGIN:VEVENT
DTSTART;TZID=America/Chicago:20260103T110000
DTEND;TZID=America/Chicago:20260103T110000
DTSTAMP:20260423T030151
CREATED:20250930T233900Z
LAST-MODIFIED:20251020T183143Z
UID:7116-1767438000-1767438000@vlscrusaders.org
SUMMARY:Junior Varsity Boys Basketball
DESCRIPTION:Valley Lutheran vs Riceville
URL:https://vlscrusaders.org/event/junior-varsity-boys-basketball-7/
LOCATION:Riceville High School
CATEGORIES:Basketball,Boys Athletics
END:VEVENT
BEGIN:VEVENT
DTSTART;TZID=America/Chicago:20260103T121500
DTEND;TZID=America/Chicago:20260103T121500
DTSTAMP:20260423T030151
CREATED:20250930T233900Z
LAST-MODIFIED:20251020T183146Z
UID:7117-1767442500-1767442500@vlscrusaders.org
SUMMARY:Varsity Boys Basketball
DESCRIPTION:Valley Lutheran vs Riceville
URL:https://vlscrusaders.org/event/varsity-boys-basketball-7/
LOCATION:Riceville High School
CATEGORIES:Basketball,Boys Athletics
END:VEVENT
BEGIN:VEVENT
DTSTART;TZID=America/Chicago:20260106T160000
DTEND;TZID=America/Chicago:20260106T160000
DTSTAMP:20260423T030151
CREATED:20250930T233932Z
LAST-MODIFIED:20251020T183208Z
UID:7125-1767715200-1767715200@vlscrusaders.org
SUMMARY:Middle School Girls Basketball
DESCRIPTION:
URL:https://vlscrusaders.org/event/middle-school-girls-basketball-5/
LOCATION:Central Lutheran School
CATEGORIES:Basketball,Girls Athletics
END:VEVENT
BEGIN:VEVENT
DTSTART;TZID=America/Chicago:20260106T160000
DTEND;TZID=America/Chicago:20260106T160000
DTSTAMP:20260423T030151
CREATED:20250930T233933Z
LAST-MODIFIED:20251020T183215Z
UID:7126-1767715200-1767715200@vlscrusaders.org
SUMMARY:Middle School Boys Basketball
DESCRIPTION:
URL:https://vlscrusaders.org/event/middle-school-boys-basketball-5/
LOCATION:Central Lutheran School
CATEGORIES:Basketball,Boys Athletics
END:VEVENT
BEGIN:VEVENT
DTSTART;TZID=America/Chicago:20260106T170000
DTEND;TZID=America/Chicago:20260106T170000
DTSTAMP:20260423T030151
CREATED:20250930T233933Z
LAST-MODIFIED:20251020T183220Z
UID:7127-1767718800-1767718800@vlscrusaders.org
SUMMARY:Junior Varsity Boys Basketball
DESCRIPTION:Valley Lutheran vs Tripoli
URL:https://vlscrusaders.org/event/junior-varsity-boys-basketball-8/
LOCATION:Tripoli High School Gym
CATEGORIES:Basketball,Boys Athletics
END:VEVENT
BEGIN:VEVENT
DTSTART;TZID=America/Chicago:20260106T183000
DTEND;TZID=America/Chicago:20260106T183000
DTSTAMP:20260423T030151
CREATED:20250930T233933Z
LAST-MODIFIED:20251020T183226Z
UID:7128-1767724200-1767724200@vlscrusaders.org
SUMMARY:Varsity Boys Basketball
DESCRIPTION:Valley Lutheran vs Tripoli
URL:https://vlscrusaders.org/event/varsity-boys-basketball-8/
LOCATION:Tripoli High School Gym
CATEGORIES:Basketball,Boys Athletics
END:VEVENT
BEGIN:VEVENT
DTSTART;TZID=America/Chicago:20260108T180000
DTEND;TZID=America/Chicago:20260108T180000
DTSTAMP:20260423T030151
CREATED:20250930T234006Z
LAST-MODIFIED:20251020T183232Z
UID:7137-1767895200-1767895200@vlscrusaders.org
SUMMARY:Junior Varsity Boys Basketball
DESCRIPTION:Valley Lutheran vs English Valleys
URL:https://vlscrusaders.org/event/junior-varsity-boys-basketball-9/
LOCATION:English Valleys High School Main Gym
CATEGORIES:Basketball,Boys Athletics
END:VEVENT
END:VCALENDAR