BEGIN:VCALENDAR
VERSION:2.0
PRODID:-//Valley Lutheran School - ECPv6.15.20//NONSGML v1.0//EN
CALSCALE:GREGORIAN
METHOD:PUBLISH
X-ORIGINAL-URL:https://vlscrusaders.org
X-WR-CALDESC:Events for Valley Lutheran School
REFRESH-INTERVAL;VALUE=DURATION:PT1H
X-Robots-Tag:noindex
X-PUBLISHED-TTL:PT1H
BEGIN:VTIMEZONE
TZID:America/Chicago
BEGIN:DAYLIGHT
TZOFFSETFROM:-0600
TZOFFSETTO:-0500
TZNAME:CDT
DTSTART:20250309T080000
END:DAYLIGHT
BEGIN:STANDARD
TZOFFSETFROM:-0500
TZOFFSETTO:-0600
TZNAME:CST
DTSTART:20251102T070000
END:STANDARD
BEGIN:DAYLIGHT
TZOFFSETFROM:-0600
TZOFFSETTO:-0500
TZNAME:CDT
DTSTART:20260308T080000
END:DAYLIGHT
BEGIN:STANDARD
TZOFFSETFROM:-0500
TZOFFSETTO:-0600
TZNAME:CST
DTSTART:20261101T070000
END:STANDARD
BEGIN:DAYLIGHT
TZOFFSETFROM:-0600
TZOFFSETTO:-0500
TZNAME:CDT
DTSTART:20270314T080000
END:DAYLIGHT
BEGIN:STANDARD
TZOFFSETFROM:-0500
TZOFFSETTO:-0600
TZNAME:CST
DTSTART:20271107T070000
END:STANDARD
END:VTIMEZONE
BEGIN:VEVENT
DTSTART;TZID=America/Chicago:20260120T160000
DTEND;TZID=America/Chicago:20260120T160000
DTSTAMP:20260422T150709
CREATED:20250930T234219Z
LAST-MODIFIED:20251020T184107Z
UID:7180-1768924800-1768924800@vlscrusaders.org
SUMMARY:Junior Varsity Girls Basketball
DESCRIPTION:Collins-Maxwell vs Valley Lutheran
URL:https://vlscrusaders.org/event/junior-varsity-girls-basketball-8/
LOCATION:Valley Lutheran School\, 4520 Rownd Street\, Cedar Falls\, 50613\, United States
CATEGORIES:Basketball,Girls Athletics
END:VEVENT
BEGIN:VEVENT
DTSTART;TZID=America/Chicago:20260120T170000
DTEND;TZID=America/Chicago:20260120T170000
DTSTAMP:20260422T150709
CREATED:20250930T234219Z
LAST-MODIFIED:20251020T184112Z
UID:7181-1768928400-1768928400@vlscrusaders.org
SUMMARY:Junior Varsity Boys Basketball
DESCRIPTION:Collins-Maxwell vs Valley Lutheran
URL:https://vlscrusaders.org/event/junior-varsity-boys-basketball-13/
LOCATION:Valley Lutheran School\, 4520 Rownd Street\, Cedar Falls\, 50613\, United States
CATEGORIES:Basketball,Boys Athletics
END:VEVENT
BEGIN:VEVENT
DTSTART;TZID=America/Chicago:20260120T183000
DTEND;TZID=America/Chicago:20260120T183000
DTSTAMP:20260422T150709
CREATED:20250930T234219Z
LAST-MODIFIED:20251020T184118Z
UID:7182-1768933800-1768933800@vlscrusaders.org
SUMMARY:Varsity Girls Basketball
DESCRIPTION:Collins-Maxwell vs Valley Lutheran
URL:https://vlscrusaders.org/event/varsity-girls-basketball-8/
LOCATION:Valley Lutheran School Gym\, 4520 Rownd Street\, Cedar Falls\, 50613\, United States
CATEGORIES:Basketball,Girls Athletics
END:VEVENT
BEGIN:VEVENT
DTSTART;TZID=America/Chicago:20260120T194500
DTEND;TZID=America/Chicago:20260120T194500
DTSTAMP:20260422T150709
CREATED:20250930T234219Z
LAST-MODIFIED:20251020T184123Z
UID:7183-1768938300-1768938300@vlscrusaders.org
SUMMARY:Varsity Boys Basketball
DESCRIPTION:Collins-Maxwell vs Valley Lutheran
URL:https://vlscrusaders.org/event/varsity-boys-basketball-13/
LOCATION:Valley Lutheran School\, 4520 Rownd Street\, Cedar Falls\, 50613\, United States
CATEGORIES:Basketball,Boys Athletics
END:VEVENT
BEGIN:VEVENT
DTSTART;TZID=America/Chicago:20260122T170000
DTEND;TZID=America/Chicago:20260122T170000
DTSTAMP:20260422T150709
CREATED:20250930T234236Z
LAST-MODIFIED:20251020T184308Z
UID:7188-1769101200-1769101200@vlscrusaders.org
SUMMARY:Junior Varsity Boys Basketball
DESCRIPTION:Cedar Valley Christian vs Valley Lutheran
URL:https://vlscrusaders.org/event/junior-varsity-boys-basketball-14/
CATEGORIES:Basketball,Boys Athletics
END:VEVENT
BEGIN:VEVENT
DTSTART;TZID=America/Chicago:20260122T183000
DTEND;TZID=America/Chicago:20260122T183000
DTSTAMP:20260422T150709
CREATED:20250930T234252Z
LAST-MODIFIED:20251020T184319Z
UID:7189-1769106600-1769106600@vlscrusaders.org
SUMMARY:Varsity Girls Basketball
DESCRIPTION:Cedar Valley Christian vs Valley Lutheran
URL:https://vlscrusaders.org/event/varsity-girls-basketball-9/
LOCATION:Valley Lutheran School Gym\, 4520 Rownd Street\, Cedar Falls\, 50613\, United States
CATEGORIES:Basketball,Girls Athletics
END:VEVENT
BEGIN:VEVENT
DTSTART;TZID=America/Chicago:20260122T193000
DTEND;TZID=America/Chicago:20260122T193000
DTSTAMP:20260422T150709
CREATED:20250930T234252Z
LAST-MODIFIED:20251020T184427Z
UID:7190-1769110200-1769110200@vlscrusaders.org
SUMMARY:Varsity Boys Basketball
DESCRIPTION:Cedar Valley Christian vs Valley Lutheran
URL:https://vlscrusaders.org/event/varsity-boys-basketball-14/
LOCATION:Valley Lutheran School Gym\, 4520 Rownd Street\, Cedar Falls\, 50613\, United States
CATEGORIES:Basketball,Boys Athletics
END:VEVENT
BEGIN:VEVENT
DTSTART;TZID=America/Chicago:20260123T160000
DTEND;TZID=America/Chicago:20260123T160000
DTSTAMP:20260422T150709
CREATED:20250930T234326Z
LAST-MODIFIED:20251020T184433Z
UID:7205-1769184000-1769184000@vlscrusaders.org
SUMMARY:Junior Varsity Girls Basketball
DESCRIPTION:Valley Lutheran vs Meskwaki Settlement
URL:https://vlscrusaders.org/event/junior-varsity-girls-basketball-9/
LOCATION:Meskwaki Settlement School
CATEGORIES:Basketball,Girls Athletics
END:VEVENT
BEGIN:VEVENT
DTSTART;TZID=America/Chicago:20260123T170000
DTEND;TZID=America/Chicago:20260123T170000
DTSTAMP:20260422T150709
CREATED:20250930T234326Z
LAST-MODIFIED:20251020T184458Z
UID:7206-1769187600-1769187600@vlscrusaders.org
SUMMARY:Junior Varsity Boys Basketball
DESCRIPTION:Valley Lutheran vs Meskwaki Settlement
URL:https://vlscrusaders.org/event/junior-varsity-boys-basketball-15/
LOCATION:Meskwaki Settlement School
CATEGORIES:Basketball,Boys Athletics
END:VEVENT
BEGIN:VEVENT
DTSTART;TZID=America/Chicago:20260123T183000
DTEND;TZID=America/Chicago:20260123T183000
DTSTAMP:20260422T150709
CREATED:20250930T234326Z
LAST-MODIFIED:20251020T184503Z
UID:7207-1769193000-1769193000@vlscrusaders.org
SUMMARY:Varsity Girls Basketball
DESCRIPTION:Valley Lutheran vs Meskwaki Settlement
URL:https://vlscrusaders.org/event/varsity-girls-basketball-10/
LOCATION:Meskwaki Settlement School
CATEGORIES:Basketball,Girls Athletics
END:VEVENT
BEGIN:VEVENT
DTSTART;TZID=America/Chicago:20260123T194500
DTEND;TZID=America/Chicago:20260123T194500
DTSTAMP:20260422T150709
CREATED:20250930T234327Z
LAST-MODIFIED:20251020T184802Z
UID:7208-1769197500-1769197500@vlscrusaders.org
SUMMARY:Varsity Boys Basketball
DESCRIPTION:Valley Lutheran vs Meskwaki Settlement
URL:https://vlscrusaders.org/event/varsity-boys-basketball-15/
LOCATION:Meskwaki Settlement School
CATEGORIES:Basketball,Boys Athletics
END:VEVENT
END:VCALENDAR