BEGIN:VCALENDAR
VERSION:2.0
PRODID:-//Valley Lutheran School - ECPv6.15.20//NONSGML v1.0//EN
CALSCALE:GREGORIAN
METHOD:PUBLISH
X-ORIGINAL-URL:https://vlscrusaders.org
X-WR-CALDESC:Events for Valley Lutheran School
REFRESH-INTERVAL;VALUE=DURATION:PT1H
X-Robots-Tag:noindex
X-PUBLISHED-TTL:PT1H
BEGIN:VTIMEZONE
TZID:America/Chicago
BEGIN:DAYLIGHT
TZOFFSETFROM:-0600
TZOFFSETTO:-0500
TZNAME:CDT
DTSTART:20250309T080000
END:DAYLIGHT
BEGIN:STANDARD
TZOFFSETFROM:-0500
TZOFFSETTO:-0600
TZNAME:CST
DTSTART:20251102T070000
END:STANDARD
BEGIN:DAYLIGHT
TZOFFSETFROM:-0600
TZOFFSETTO:-0500
TZNAME:CDT
DTSTART:20260308T080000
END:DAYLIGHT
BEGIN:STANDARD
TZOFFSETFROM:-0500
TZOFFSETTO:-0600
TZNAME:CST
DTSTART:20261101T070000
END:STANDARD
BEGIN:DAYLIGHT
TZOFFSETFROM:-0600
TZOFFSETTO:-0500
TZNAME:CDT
DTSTART:20270314T080000
END:DAYLIGHT
BEGIN:STANDARD
TZOFFSETFROM:-0500
TZOFFSETTO:-0600
TZNAME:CST
DTSTART:20271107T070000
END:STANDARD
END:VTIMEZONE
BEGIN:VEVENT
DTSTART;TZID=America/Chicago:20260203T160000
DTEND;TZID=America/Chicago:20260203T160000
DTSTAMP:20260421T132806
CREATED:20250930T234538Z
LAST-MODIFIED:20251020T185450Z
UID:7245-1770134400-1770134400@vlscrusaders.org
SUMMARY:Middle School Girls Basketball
DESCRIPTION:
URL:https://vlscrusaders.org/event/middle-school-girls-basketball-11/
LOCATION:Valley Lutheran School Gym\, 4520 Rownd Street\, Cedar Falls\, 50613\, United States
CATEGORIES:Extracurriculars
END:VEVENT
BEGIN:VEVENT
DTSTART;TZID=America/Chicago:20260203T160000
DTEND;TZID=America/Chicago:20260203T160000
DTSTAMP:20260421T132806
CREATED:20250930T234538Z
LAST-MODIFIED:20251020T185504Z
UID:7246-1770134400-1770134400@vlscrusaders.org
SUMMARY:Middle School Boys Basketball
DESCRIPTION:
URL:https://vlscrusaders.org/event/middle-school-boys-basketball-12/
LOCATION:Valley Lutheran School Gym\, 4520 Rownd Street\, Cedar Falls\, 50613\, United States
CATEGORIES:Extracurriculars
END:VEVENT
END:VCALENDAR