BEGIN:VCALENDAR
VERSION:2.0
PRODID:-//Valley Lutheran School - ECPv6.15.20//NONSGML v1.0//EN
CALSCALE:GREGORIAN
METHOD:PUBLISH
X-ORIGINAL-URL:https://vlscrusaders.org
X-WR-CALDESC:Events for Valley Lutheran School
REFRESH-INTERVAL;VALUE=DURATION:PT1H
X-Robots-Tag:noindex
X-PUBLISHED-TTL:PT1H
BEGIN:VTIMEZONE
TZID:America/Chicago
BEGIN:DAYLIGHT
TZOFFSETFROM:-0600
TZOFFSETTO:-0500
TZNAME:CDT
DTSTART:20240310T080000
END:DAYLIGHT
BEGIN:STANDARD
TZOFFSETFROM:-0500
TZOFFSETTO:-0600
TZNAME:CST
DTSTART:20241103T070000
END:STANDARD
BEGIN:DAYLIGHT
TZOFFSETFROM:-0600
TZOFFSETTO:-0500
TZNAME:CDT
DTSTART:20250309T080000
END:DAYLIGHT
BEGIN:STANDARD
TZOFFSETFROM:-0500
TZOFFSETTO:-0600
TZNAME:CST
DTSTART:20251102T070000
END:STANDARD
BEGIN:DAYLIGHT
TZOFFSETFROM:-0600
TZOFFSETTO:-0500
TZNAME:CDT
DTSTART:20260308T080000
END:DAYLIGHT
BEGIN:STANDARD
TZOFFSETFROM:-0500
TZOFFSETTO:-0600
TZNAME:CST
DTSTART:20261101T070000
END:STANDARD
END:VTIMEZONE
BEGIN:VEVENT
DTSTART;TZID=America/Chicago:20251009T150000
DTEND;TZID=America/Chicago:20251009T150000
DTSTAMP:20260421T052638
CREATED:20250930T232931Z
LAST-MODIFIED:20250930T232932Z
UID:6875-1760022000-1760022000@vlscrusaders.org
SUMMARY:Varsity Volleyball
DESCRIPTION:BCLUW vs Collins-Maxwell
URL:https://vlscrusaders.org/event/varsity-volleyball-2/
LOCATION:Collins-Maxwell High School
CATEGORIES:Volleyball
END:VEVENT
BEGIN:VEVENT
DTSTART;TZID=America/Chicago:20251009T190000
DTEND;TZID=America/Chicago:20251009T190000
DTSTAMP:20260421T052638
CREATED:20250930T232948Z
LAST-MODIFIED:20250930T232948Z
UID:6884-1760036400-1760036400@vlscrusaders.org
SUMMARY:Homecoming Week
DESCRIPTION:FALSE
URL:https://vlscrusaders.org/event/homecoming-week-4/
LOCATION:Valley Lutheran School\, 4520 Rownd Street\, Cedar Falls\, 50613\, United States
END:VEVENT
BEGIN:VEVENT
DTSTART;TZID=America/Chicago:20251010T030000
DTEND;TZID=America/Chicago:20251010T030000
DTSTAMP:20260421T052638
CREATED:20250930T232948Z
LAST-MODIFIED:20250930T232948Z
UID:6885-1760065200-1760065200@vlscrusaders.org
SUMMARY:K-5 Field Trip - Bloomsbury Farm
DESCRIPTION:FALSE
URL:https://vlscrusaders.org/event/k-5-field-trip-bloomsbury-farm/
END:VEVENT
BEGIN:VEVENT
DTSTART;TZID=America/Chicago:20251010T113000
DTEND;TZID=America/Chicago:20251010T113000
DTSTAMP:20260421T052638
CREATED:20250930T232948Z
LAST-MODIFIED:20250930T232948Z
UID:6888-1760095800-1760095800@vlscrusaders.org
SUMMARY:Level 5 Volleyball
DESCRIPTION:FALSE
URL:https://vlscrusaders.org/event/level-5-volleyball/
LOCATION:Valley Lutheran School Gym\, 4520 Rownd Street\, Cedar Falls\, 50613\, United States
CATEGORIES:Volleyball
END:VEVENT
BEGIN:VEVENT
DTSTART;TZID=America/Chicago:20251010T140000
DTEND;TZID=America/Chicago:20251010T140000
DTSTAMP:20260421T052638
CREATED:20250930T233005Z
LAST-MODIFIED:20250930T233006Z
UID:6890-1760104800-1760104800@vlscrusaders.org
SUMMARY:Varsity Football
DESCRIPTION:Prairie vs Cedar Falls
URL:https://vlscrusaders.org/event/varsity-football-2/
LOCATION:Cedar Falls High School
CATEGORIES:Varisty Football
END:VEVENT
BEGIN:VEVENT
DTSTART;TZID=America/Chicago:20251011T040000
DTEND;TZID=America/Chicago:20251011T040000
DTSTAMP:20260421T052638
CREATED:20250930T233005Z
LAST-MODIFIED:20250930T233006Z
UID:6891-1760155200-1760155200@vlscrusaders.org
SUMMARY:Fall Play Stage Set Up
DESCRIPTION:FALSE
URL:https://vlscrusaders.org/event/fall-play-stage-set-up/
LOCATION:Valley Lutheran School Stage\, 4520 Rownd Street\, Cedar Falls\, 50613\, United States
CATEGORIES:Visual Arts
END:VEVENT
BEGIN:VEVENT
DTSTART;TZID=America/Chicago:20251011T040000
DTEND;TZID=America/Chicago:20251011T040000
DTSTAMP:20260421T052638
CREATED:20250930T233005Z
LAST-MODIFIED:20250930T233006Z
UID:6892-1760155200-1760155200@vlscrusaders.org
SUMMARY:Elementary Play-Set up lights and sound
DESCRIPTION:FALSE
URL:https://vlscrusaders.org/event/elementary-play-set-up-lights-and-sound/
LOCATION:Valley Lutheran School Multi Purpose Room\, 4520 Rownd Street\, Cedar Falls\, 50613\, United States
CATEGORIES:Visual Arts
END:VEVENT
BEGIN:VEVENT
DTSTART;TZID=America/Chicago:20251012T070000
DTEND;TZID=America/Chicago:20251012T070000
DTSTAMP:20260421T052638
CREATED:20250930T233005Z
LAST-MODIFIED:20250930T233006Z
UID:6893-1760252400-1760252400@vlscrusaders.org
SUMMARY:Fall Play Stage Setup
DESCRIPTION:FALSE
URL:https://vlscrusaders.org/event/fall-play-stage-setup/
LOCATION:Valley Lutheran School Stage\, 4520 Rownd Street\, Cedar Falls\, 50613\, United States
CATEGORIES:Visual Arts
END:VEVENT
BEGIN:VEVENT
DTSTART;TZID=America/Chicago:20251014T190000
DTEND;TZID=America/Chicago:20251014T190000
DTSTAMP:20260421T052638
CREATED:20250930T233056Z
LAST-MODIFIED:20250930T233056Z
UID:6915-1760468400-1760468400@vlscrusaders.org
SUMMARY:HS Testing - 1/2 Day 9th-11th Grade / PSAT/PreACT
DESCRIPTION:FALSE
URL:https://vlscrusaders.org/event/hs-testing-1-2-day-9th-11th-grade-psat-preact/
LOCATION:Valley Lutheran School\, 4520 Rownd Street\, Cedar Falls\, 50613\, United States
END:VEVENT
BEGIN:VEVENT
DTSTART;TZID=America/Chicago:20251016T110000
DTEND;TZID=America/Chicago:20251016T110000
DTSTAMP:20260421T052638
CREATED:20250930T233129Z
LAST-MODIFIED:20250930T233129Z
UID:6924-1760612400-1760612400@vlscrusaders.org
SUMMARY:Level 5 Boys Cross Country
DESCRIPTION:Iowa Star Conference Cross Country Meet: Baxter\, BCLUW\, Cedar Ridge Christian\, Clarksville\, Collins-Maxwell\, Colo-Nesco\, Don Bosco\, Dunkerton\, GMG\, Janesville\, Meskwaki Settlement\, North Tama\, Riceville\, Rockford\, Tripoli
URL:https://vlscrusaders.org/event/level-5-boys-cross-country/
LOCATION:Wartburg College
CATEGORIES:Cross Country
END:VEVENT
BEGIN:VEVENT
DTSTART;TZID=America/Chicago:20251016T110000
DTEND;TZID=America/Chicago:20251016T110000
DTSTAMP:20260421T052638
CREATED:20250930T233129Z
LAST-MODIFIED:20250930T233129Z
UID:6925-1760612400-1760612400@vlscrusaders.org
SUMMARY:Varsity Girls Cross Country
DESCRIPTION:Iowa Star Conference Cross Country Meet: Baxter\, BCLUW\, Cedar Ridge Christian\, Clarksville\, Collins-Maxwell\, Colo-Nesco\, Don Bosco\, Dunkerton\, GMG\, Janesville\, Meskwaki Settlement\, North Tama\, Riceville\, Rockford\, Tripoli
URL:https://vlscrusaders.org/event/varsity-girls-cross-country-2/
LOCATION:Wartburg College
CATEGORIES:Cross Country
END:VEVENT
BEGIN:VEVENT
DTSTART;TZID=America/Chicago:20251016T110000
DTEND;TZID=America/Chicago:20251016T110000
DTSTAMP:20260421T052638
CREATED:20250930T233129Z
LAST-MODIFIED:20250930T233129Z
UID:6926-1760612400-1760612400@vlscrusaders.org
SUMMARY:Varsity Boys Cross Country
DESCRIPTION:Iowa Star Conference Cross Country Meet: Baxter\, BCLUW\, Cedar Ridge Christian\, Clarksville\, Collins-Maxwell\, Colo-Nesco\, Don Bosco\, Dunkerton\, GMG\, Janesville\, Meskwaki Settlement\, North Tama\, Riceville\, Rockford\, Tripoli
URL:https://vlscrusaders.org/event/varsity-boys-cross-country-2/
LOCATION:Wartburg College
CATEGORIES:Cross Country
END:VEVENT
BEGIN:VEVENT
DTSTART;TZID=America/Chicago:20251016T110000
DTEND;TZID=America/Chicago:20251016T110000
DTSTAMP:20260421T052638
CREATED:20250930T233129Z
LAST-MODIFIED:20250930T233129Z
UID:6927-1760612400-1760612400@vlscrusaders.org
SUMMARY:Middle School Girls Cross Country
DESCRIPTION:Iowa Star Conference Cross Country Meet: Baxter\, BCLUW\, Cedar Ridge Christian\, Clarksville\, Collins-Maxwell\, Colo-Nesco\, Don Bosco\, Dunkerton\, GMG\, Janesville\, Meskwaki Settlement\, North Tama\, Riceville\, Rockford\, Tripoli
URL:https://vlscrusaders.org/event/middle-school-girls-cross-country-2/
LOCATION:Wartburg College
CATEGORIES:Cross Country
END:VEVENT
BEGIN:VEVENT
DTSTART;TZID=America/Chicago:20251017T025000
DTEND;TZID=America/Chicago:20251017T025000
DTSTAMP:20260421T052638
CREATED:20250930T233145Z
LAST-MODIFIED:20250930T233145Z
UID:6930-1760669400-1760669400@vlscrusaders.org
SUMMARY:End of 1st Quarter
DESCRIPTION:FALSE
URL:https://vlscrusaders.org/event/end-of-1st-quarter/
LOCATION:Valley Lutheran School\, 4520 Rownd Street\, Cedar Falls\, 50613\, United States
END:VEVENT
BEGIN:VEVENT
DTSTART;TZID=America/Chicago:20251017T102000
DTEND;TZID=America/Chicago:20251017T102000
DTSTAMP:20260421T052638
CREATED:20250930T233145Z
LAST-MODIFIED:20250930T233145Z
UID:6931-1760696400-1760696400@vlscrusaders.org
SUMMARY:Elementary Play Call Times
DESCRIPTION:FALSE
URL:https://vlscrusaders.org/event/elementary-play-call-times/
LOCATION:Valley Lutheran School Room 117
CATEGORIES:Visual Arts
END:VEVENT
BEGIN:VEVENT
DTSTART;TZID=America/Chicago:20251017T113000
DTEND;TZID=America/Chicago:20251017T113000
DTSTAMP:20260421T052638
CREATED:20250930T233202Z
LAST-MODIFIED:20250930T233202Z
UID:6934-1760700600-1760700600@vlscrusaders.org
SUMMARY:Middle School Volleyball
DESCRIPTION:FALSE
URL:https://vlscrusaders.org/event/middle-school-volleyball-2/
LOCATION:Pathway Christian School
CATEGORIES:Volleyball
END:VEVENT
BEGIN:VEVENT
DTSTART;TZID=America/Chicago:20251017T133000
DTEND;TZID=America/Chicago:20251017T133000
DTSTAMP:20260421T052638
CREATED:20250930T233202Z
LAST-MODIFIED:20250930T233202Z
UID:6936-1760707800-1760707800@vlscrusaders.org
SUMMARY:Fall Play-Welcome to Candy Kingdom
DESCRIPTION:FALSE
URL:https://vlscrusaders.org/event/fall-play-welcome-to-candy-kingdom/
LOCATION:Valley Lutheran School Multi Purpose Room\, 4520 Rownd Street\, Cedar Falls\, 50613\, United States
CATEGORIES:Visual Arts
END:VEVENT
BEGIN:VEVENT
DTSTART;TZID=America/Chicago:20251017T140000
DTEND;TZID=America/Chicago:20251017T140000
DTSTAMP:20260421T052638
CREATED:20250930T233202Z
LAST-MODIFIED:20250930T233202Z
UID:6937-1760709600-1760709600@vlscrusaders.org
SUMMARY:Varsity Football
DESCRIPTION:Cedar Falls vs Linn-Mar Varsity Football
URL:https://vlscrusaders.org/event/varsity-football-3/
LOCATION:Linn-Mar Stadium
CATEGORIES:Varisty Football
END:VEVENT
BEGIN:VEVENT
DTSTART;TZID=America/Chicago:20251017T140000
DTEND;TZID=America/Chicago:20251017T140000
DTSTAMP:20260421T052638
CREATED:20250930T233202Z
LAST-MODIFIED:20250930T233202Z
UID:6938-1760709600-1760709600@vlscrusaders.org
SUMMARY:Marching Band Band
DESCRIPTION:Cedar Falls vs Linn-Mar Varsity Football
URL:https://vlscrusaders.org/event/marching-band-band/
LOCATION:Linn-Mar Stadium
CATEGORIES:Band
END:VEVENT
BEGIN:VEVENT
DTSTART;TZID=America/Chicago:20251018T040000
DTEND;TZID=America/Chicago:20251018T040000
DTSTAMP:20260421T052638
CREATED:20250930T233218Z
LAST-MODIFIED:20250930T233218Z
UID:6939-1760760000-1760760000@vlscrusaders.org
SUMMARY:Varsity Volleyball
DESCRIPTION:ISC Volleyball Tournament:
URL:https://vlscrusaders.org/event/varsity-volleyball-4/
CATEGORIES:Volleyball
END:VEVENT
BEGIN:VEVENT
DTSTART;TZID=America/Chicago:20251018T073000
DTEND;TZID=America/Chicago:20251018T073000
DTSTAMP:20260421T052638
CREATED:20250930T233218Z
LAST-MODIFIED:20250930T233218Z
UID:6940-1760772600-1760772600@vlscrusaders.org
SUMMARY:Elementary Play
DESCRIPTION:FALSE
URL:https://vlscrusaders.org/event/elementary-play/
LOCATION:Valley Lutheran School Room 117
CATEGORIES:Visual Arts
END:VEVENT
BEGIN:VEVENT
DTSTART;TZID=America/Chicago:20251018T090000
DTEND;TZID=America/Chicago:20251018T090000
DTSTAMP:20260421T052638
CREATED:20250930T233218Z
LAST-MODIFIED:20250930T233218Z
UID:6941-1760778000-1760778000@vlscrusaders.org
SUMMARY:Fall Play-Welcome to Candy Kingdom
DESCRIPTION:FALSE
URL:https://vlscrusaders.org/event/fall-play-welcome-to-candy-kingdom-2/
LOCATION:Valley Lutheran School Multi Purpose Room\, 4520 Rownd Street\, Cedar Falls\, 50613\, United States
CATEGORIES:Visual Arts
END:VEVENT
BEGIN:VEVENT
DTSTART;TZID=America/Chicago:20251020T025000
DTEND;TZID=America/Chicago:20251020T025000
DTSTAMP:20260421T052638
CREATED:20250930T233218Z
LAST-MODIFIED:20250930T233218Z
UID:6943-1760928600-1760928600@vlscrusaders.org
SUMMARY:Start of 2nd Quarter
DESCRIPTION:FALSE
URL:https://vlscrusaders.org/event/start-of-2nd-quarter/
LOCATION:Valley Lutheran School\, 4520 Rownd Street\, Cedar Falls\, 50613\, United States
END:VEVENT
BEGIN:VEVENT
DTSTART;TZID=America/Chicago:20251020T113000
DTEND;TZID=America/Chicago:20251020T113000
DTSTAMP:20260421T052638
CREATED:20250930T233235Z
LAST-MODIFIED:20250930T233235Z
UID:6946-1760959800-1760959800@vlscrusaders.org
SUMMARY:Middle School Volleyball
DESCRIPTION:FALSE
URL:https://vlscrusaders.org/event/middle-school-volleyball-3/
LOCATION:Trinity Lutheran School
CATEGORIES:Volleyball
END:VEVENT
BEGIN:VEVENT
DTSTART;TZID=America/Chicago:20251021T160000
DTEND;TZID=America/Chicago:20251021T160000
DTSTAMP:20260421T052638
CREATED:20250930T233235Z
LAST-MODIFIED:20251020T180720Z
UID:6948-1761062400-1761062400@vlscrusaders.org
SUMMARY:Teacher Conference Meal
DESCRIPTION:
URL:https://vlscrusaders.org/event/teacher-conference-meal/
LOCATION:Valley Lutheran School Kitchen
END:VEVENT
BEGIN:VEVENT
DTSTART;TZID=America/Chicago:20251021T160000
DTEND;TZID=America/Chicago:20251021T160000
DTSTAMP:20260421T052638
CREATED:20250930T233251Z
LAST-MODIFIED:20251020T180805Z
UID:6949-1761062400-1761062400@vlscrusaders.org
SUMMARY:Parent / Teacher Conferences
DESCRIPTION:
URL:https://vlscrusaders.org/event/parent-teacher-conferences/
LOCATION:Valley Lutheran School\, 4520 Rownd Street\, Cedar Falls\, 50613\, United States
END:VEVENT
BEGIN:VEVENT
DTSTART;TZID=America/Chicago:20251023T160000
DTEND;TZID=America/Chicago:20251023T160000
DTSTAMP:20260421T052638
CREATED:20250930T233308Z
LAST-MODIFIED:20251020T180805Z
UID:6959-1761235200-1761235200@vlscrusaders.org
SUMMARY:Parent / Teacher Conferences
DESCRIPTION:
URL:https://vlscrusaders.org/event/parent-teacher-conferences-2/
LOCATION:Valley Lutheran School\, 4520 Rownd Street\, Cedar Falls\, 50613\, United States
END:VEVENT
BEGIN:VEVENT
DTSTART;TZID=America/Chicago:20251024T075000
DTEND;TZID=America/Chicago:20251024T075000
DTSTAMP:20260421T052638
CREATED:20250930T233308Z
LAST-MODIFIED:20251020T180815Z
UID:6961-1761292200-1761292200@vlscrusaders.org
SUMMARY:No School
DESCRIPTION:
URL:https://vlscrusaders.org/event/no-school/
LOCATION:Valley Lutheran School\, 4520 Rownd Street\, Cedar Falls\, 50613\, United States
END:VEVENT
BEGIN:VEVENT
DTSTART;TZID=America/Chicago:20251024T163000
DTEND;TZID=America/Chicago:20251024T163000
DTSTAMP:20260421T052638
CREATED:20250930T233308Z
LAST-MODIFIED:20251020T180823Z
UID:6962-1761323400-1761323400@vlscrusaders.org
SUMMARY:Freshman Football
DESCRIPTION:Cedar Rapids Jefferson vs Cedar Falls
URL:https://vlscrusaders.org/event/freshman-football/
LOCATION:Cedar Falls High School
CATEGORIES:Varisty Football
END:VEVENT
BEGIN:VEVENT
DTSTART;TZID=America/Chicago:20251024T190000
DTEND;TZID=America/Chicago:20251024T190000
DTSTAMP:20260421T052638
CREATED:20250930T233309Z
LAST-MODIFIED:20251020T180829Z
UID:6963-1761332400-1761332400@vlscrusaders.org
SUMMARY:Varsity Football
DESCRIPTION:Cedar Rapids Jefferson vs Cedar Falls
URL:https://vlscrusaders.org/event/varsity-football-4/
LOCATION:Cedar Falls High School
CATEGORIES:Varisty Football
END:VEVENT
END:VCALENDAR