BEGIN:VCALENDAR
VERSION:2.0
PRODID:-//Valley Lutheran School - ECPv6.15.20//NONSGML v1.0//EN
CALSCALE:GREGORIAN
METHOD:PUBLISH
X-ORIGINAL-URL:https://vlscrusaders.org
X-WR-CALDESC:Events for Valley Lutheran School
REFRESH-INTERVAL;VALUE=DURATION:PT1H
X-Robots-Tag:noindex
X-PUBLISHED-TTL:PT1H
BEGIN:VTIMEZONE
TZID:America/Chicago
BEGIN:DAYLIGHT
TZOFFSETFROM:-0600
TZOFFSETTO:-0500
TZNAME:CDT
DTSTART:20240310T080000
END:DAYLIGHT
BEGIN:STANDARD
TZOFFSETFROM:-0500
TZOFFSETTO:-0600
TZNAME:CST
DTSTART:20241103T070000
END:STANDARD
BEGIN:DAYLIGHT
TZOFFSETFROM:-0600
TZOFFSETTO:-0500
TZNAME:CDT
DTSTART:20250309T080000
END:DAYLIGHT
BEGIN:STANDARD
TZOFFSETFROM:-0500
TZOFFSETTO:-0600
TZNAME:CST
DTSTART:20251102T070000
END:STANDARD
BEGIN:DAYLIGHT
TZOFFSETFROM:-0600
TZOFFSETTO:-0500
TZNAME:CDT
DTSTART:20260308T080000
END:DAYLIGHT
BEGIN:STANDARD
TZOFFSETFROM:-0500
TZOFFSETTO:-0600
TZNAME:CST
DTSTART:20261101T070000
END:STANDARD
END:VTIMEZONE
BEGIN:VEVENT
DTSTART;TZID=America/Chicago:20251021T160000
DTEND;TZID=America/Chicago:20251021T160000
DTSTAMP:20260421T081321
CREATED:20250930T233235Z
LAST-MODIFIED:20251020T180720Z
UID:6948-1761062400-1761062400@vlscrusaders.org
SUMMARY:Teacher Conference Meal
DESCRIPTION:
URL:https://vlscrusaders.org/event/teacher-conference-meal/
LOCATION:Valley Lutheran School Kitchen
END:VEVENT
BEGIN:VEVENT
DTSTART;TZID=America/Chicago:20251021T160000
DTEND;TZID=America/Chicago:20251021T160000
DTSTAMP:20260421T081321
CREATED:20250930T233251Z
LAST-MODIFIED:20251020T180805Z
UID:6949-1761062400-1761062400@vlscrusaders.org
SUMMARY:Parent / Teacher Conferences
DESCRIPTION:
URL:https://vlscrusaders.org/event/parent-teacher-conferences/
LOCATION:Valley Lutheran School\, 4520 Rownd Street\, Cedar Falls\, 50613\, United States
END:VEVENT
BEGIN:VEVENT
DTSTART;TZID=America/Chicago:20251023T160000
DTEND;TZID=America/Chicago:20251023T160000
DTSTAMP:20260421T081321
CREATED:20250930T233308Z
LAST-MODIFIED:20251020T180805Z
UID:6959-1761235200-1761235200@vlscrusaders.org
SUMMARY:Parent / Teacher Conferences
DESCRIPTION:
URL:https://vlscrusaders.org/event/parent-teacher-conferences-2/
LOCATION:Valley Lutheran School\, 4520 Rownd Street\, Cedar Falls\, 50613\, United States
END:VEVENT
BEGIN:VEVENT
DTSTART;TZID=America/Chicago:20251024T075000
DTEND;TZID=America/Chicago:20251024T075000
DTSTAMP:20260421T081321
CREATED:20250930T233308Z
LAST-MODIFIED:20251020T180815Z
UID:6961-1761292200-1761292200@vlscrusaders.org
SUMMARY:No School
DESCRIPTION:
URL:https://vlscrusaders.org/event/no-school/
LOCATION:Valley Lutheran School\, 4520 Rownd Street\, Cedar Falls\, 50613\, United States
END:VEVENT
BEGIN:VEVENT
DTSTART;TZID=America/Chicago:20251024T163000
DTEND;TZID=America/Chicago:20251024T163000
DTSTAMP:20260421T081321
CREATED:20250930T233308Z
LAST-MODIFIED:20251020T180823Z
UID:6962-1761323400-1761323400@vlscrusaders.org
SUMMARY:Freshman Football
DESCRIPTION:Cedar Rapids Jefferson vs Cedar Falls
URL:https://vlscrusaders.org/event/freshman-football/
LOCATION:Cedar Falls High School
CATEGORIES:Varisty Football
END:VEVENT
BEGIN:VEVENT
DTSTART;TZID=America/Chicago:20251024T190000
DTEND;TZID=America/Chicago:20251024T190000
DTSTAMP:20260421T081321
CREATED:20250930T233309Z
LAST-MODIFIED:20251020T180829Z
UID:6963-1761332400-1761332400@vlscrusaders.org
SUMMARY:Varsity Football
DESCRIPTION:Cedar Rapids Jefferson vs Cedar Falls
URL:https://vlscrusaders.org/event/varsity-football-4/
LOCATION:Cedar Falls High School
CATEGORIES:Varisty Football
END:VEVENT
BEGIN:VEVENT
DTSTART;TZID=America/Chicago:20251025T150000
DTEND;TZID=America/Chicago:20251025T150000
DTSTAMP:20260421T081321
CREATED:20250930T233325Z
LAST-MODIFIED:20251020T180842Z
UID:6964-1761404400-1761404400@vlscrusaders.org
SUMMARY:UNI Concessions
DESCRIPTION:
URL:https://vlscrusaders.org/event/uni-concessions/
LOCATION:University of Northern Iowa
END:VEVENT
BEGIN:VEVENT
DTSTART;TZID=America/Chicago:20251027T110000
DTEND;TZID=America/Chicago:20251027T110000
DTSTAMP:20260421T081321
CREATED:20250930T233325Z
LAST-MODIFIED:20251020T180852Z
UID:6967-1761562800-1761562800@vlscrusaders.org
SUMMARY:National Honor Society Blood Drive
DESCRIPTION:
URL:https://vlscrusaders.org/event/national-honor-society-blood-drive/
LOCATION:Valley Lutheran School Multi Purpose Room\, 4520 Rownd Street\, Cedar Falls\, 50613\, United States
END:VEVENT
BEGIN:VEVENT
DTSTART;TZID=America/Chicago:20251027T163000
DTEND;TZID=America/Chicago:20251027T163000
DTSTAMP:20260421T081321
CREATED:20250930T233341Z
LAST-MODIFIED:20251020T180900Z
UID:6969-1761582600-1761582600@vlscrusaders.org
SUMMARY:Middle School Volleyball
DESCRIPTION:
URL:https://vlscrusaders.org/event/middle-school-volleyball-4/
LOCATION:Central Lutheran School
CATEGORIES:Volleyball
END:VEVENT
BEGIN:VEVENT
DTSTART;TZID=America/Chicago:20251028T163000
DTEND;TZID=America/Chicago:20251028T163000
DTSTAMP:20260421T081321
CREATED:20250930T233341Z
LAST-MODIFIED:20251020T180909Z
UID:6971-1761669000-1761669000@vlscrusaders.org
SUMMARY:Middle School Volleyball
DESCRIPTION:
URL:https://vlscrusaders.org/event/middle-school-volleyball-5/
LOCATION:Valley Lutheran School Gym\, 4520 Rownd Street\, Cedar Falls\, 50613\, United States
CATEGORIES:Volleyball
END:VEVENT
BEGIN:VEVENT
DTSTART;TZID=America/Chicago:20251030T163000
DTEND;TZID=America/Chicago:20251030T163000
DTSTAMP:20260421T081321
CREATED:20250930T233358Z
LAST-MODIFIED:20251020T180918Z
UID:6976-1761841800-1761841800@vlscrusaders.org
SUMMARY:Middle School Volleyball
DESCRIPTION:
URL:https://vlscrusaders.org/event/middle-school-volleyball-6/
LOCATION:Valley Lutheran School Gym\, 4520 Rownd Street\, Cedar Falls\, 50613\, United States
CATEGORIES:Volleyball
END:VEVENT
BEGIN:VEVENT
DTSTART;TZID=America/Chicago:20251103T080000
DTEND;TZID=America/Chicago:20251103T080000
DTSTAMP:20260421T081321
CREATED:20250930T233415Z
LAST-MODIFIED:20251020T180925Z
UID:6980-1762156800-1762156800@vlscrusaders.org
SUMMARY:3rd Grade Museum School
DESCRIPTION:
URL:https://vlscrusaders.org/event/3rd-grade-museum-school/
END:VEVENT
BEGIN:VEVENT
DTSTART;TZID=America/Chicago:20251104T080000
DTEND;TZID=America/Chicago:20251104T080000
DTSTAMP:20260421T081321
CREATED:20250930T233415Z
LAST-MODIFIED:20251020T181057Z
UID:6982-1762243200-1762243200@vlscrusaders.org
SUMMARY:3rd Grade Museum School
DESCRIPTION:
URL:https://vlscrusaders.org/event/3rd-grade-museum-school-2/
END:VEVENT
BEGIN:VEVENT
DTSTART;TZID=America/Chicago:20251104T163000
DTEND;TZID=America/Chicago:20251104T163000
DTSTAMP:20260421T081321
CREATED:20250930T233416Z
LAST-MODIFIED:20251020T181105Z
UID:6983-1762273800-1762273800@vlscrusaders.org
SUMMARY:Level 5 Volleyball
DESCRIPTION:
URL:https://vlscrusaders.org/event/level-5-volleyball-2/
LOCATION:Lutheran Interparish School
CATEGORIES:Volleyball
END:VEVENT
BEGIN:VEVENT
DTSTART;TZID=America/Chicago:20251105T080000
DTEND;TZID=America/Chicago:20251105T080000
DTSTAMP:20260421T081321
CREATED:20250930T233432Z
LAST-MODIFIED:20251020T181113Z
UID:6990-1762329600-1762329600@vlscrusaders.org
SUMMARY:3rd Grade Museum School
DESCRIPTION:
URL:https://vlscrusaders.org/event/3rd-grade-museum-school-3/
END:VEVENT
BEGIN:VEVENT
DTSTART;TZID=America/Chicago:20251106T080000
DTEND;TZID=America/Chicago:20251106T080000
DTSTAMP:20260421T081321
CREATED:20250930T233432Z
LAST-MODIFIED:20251020T181120Z
UID:6992-1762416000-1762416000@vlscrusaders.org
SUMMARY:3rd Grade Museum School
DESCRIPTION:
URL:https://vlscrusaders.org/event/3rd-grade-museum-school-4/
END:VEVENT
BEGIN:VEVENT
DTSTART;TZID=America/Chicago:20251106T163000
DTEND;TZID=America/Chicago:20251106T163000
DTSTAMP:20260421T081321
CREATED:20250930T233433Z
LAST-MODIFIED:20251020T181128Z
UID:6993-1762446600-1762446600@vlscrusaders.org
SUMMARY:Middle School Volleyball
DESCRIPTION:
URL:https://vlscrusaders.org/event/middle-school-volleyball-7/
LOCATION:Valley Lutheran School Gym\, 4520 Rownd Street\, Cedar Falls\, 50613\, United States
CATEGORIES:Volleyball
END:VEVENT
BEGIN:VEVENT
DTSTART;TZID=America/Chicago:20251108T000000
DTEND;TZID=America/Chicago:20251108T000000
DTSTAMP:20260421T081321
CREATED:20250930T233449Z
LAST-MODIFIED:20251020T181135Z
UID:6996-1762560000-1762560000@vlscrusaders.org
SUMMARY:Middle School Volleyball
DESCRIPTION:
URL:https://vlscrusaders.org/event/middle-school-volleyball-8/
LOCATION:Central Lutheran School
CATEGORIES:Volleyball
END:VEVENT
BEGIN:VEVENT
DTSTART;TZID=America/Chicago:20251108T103000
DTEND;TZID=America/Chicago:20251108T103000
DTSTAMP:20260421T081321
CREATED:20250930T233449Z
LAST-MODIFIED:20251020T181143Z
UID:6997-1762597800-1762597800@vlscrusaders.org
SUMMARY:UNI Concessions
DESCRIPTION:
URL:https://vlscrusaders.org/event/uni-concessions-2/
LOCATION:University of Northern Iowa
END:VEVENT
BEGIN:VEVENT
DTSTART;TZID=America/Chicago:20251111T075000
DTEND;TZID=America/Chicago:20251111T075000
DTSTAMP:20260421T081321
CREATED:20250930T233506Z
LAST-MODIFIED:20251020T181518Z
UID:7004-1762847400-1762847400@vlscrusaders.org
SUMMARY:Veteran's Day
DESCRIPTION:
URL:https://vlscrusaders.org/event/veterans-day/
LOCATION:Valley Lutheran School\, 4520 Rownd Street\, Cedar Falls\, 50613\, United States
END:VEVENT
BEGIN:VEVENT
DTSTART;TZID=America/Chicago:20251113T093000
DTEND;TZID=America/Chicago:20251113T093000
DTSTAMP:20260421T081321
CREATED:20250930T233506Z
LAST-MODIFIED:20251020T181543Z
UID:7007-1763026200-1763026200@vlscrusaders.org
SUMMARY:1st Grade Field Trip
DESCRIPTION:
URL:https://vlscrusaders.org/event/1st-grade-field-trip/
END:VEVENT
BEGIN:VEVENT
DTSTART;TZID=America/Chicago:20251117T000000
DTEND;TZID=America/Chicago:20251117T000000
DTSTAMP:20260421T081321
CREATED:20250930T233523Z
LAST-MODIFIED:20251020T181552Z
UID:7010-1763337600-1763337600@vlscrusaders.org
SUMMARY:Iowa Star Band Festival Concert
DESCRIPTION:
URL:https://vlscrusaders.org/event/iowa-star-band-festival-concert/
CATEGORIES:Band
END:VEVENT
BEGIN:VEVENT
DTSTART;TZID=America/Chicago:20251117T190000
DTEND;TZID=America/Chicago:20251117T190000
DTSTAMP:20260421T081321
CREATED:20250930T233523Z
LAST-MODIFIED:20251020T181600Z
UID:7011-1763406000-1763406000@vlscrusaders.org
SUMMARY:High School Band
DESCRIPTION:Clarksville\, Don Bosco\, North Tama\, Riceville
URL:https://vlscrusaders.org/event/high-school-band/
LOCATION:Janesville High School Band Room
CATEGORIES:Band
END:VEVENT
BEGIN:VEVENT
DTSTART;TZID=America/Chicago:20251122T110000
DTEND;TZID=America/Chicago:20251122T110000
DTSTAMP:20260421T081321
CREATED:20250930T233539Z
LAST-MODIFIED:20251020T181609Z
UID:7014-1763809200-1763809200@vlscrusaders.org
SUMMARY:UNI Concessions
DESCRIPTION:
URL:https://vlscrusaders.org/event/uni-concessions-3/
LOCATION:University of Northern Iowa
END:VEVENT
BEGIN:VEVENT
DTSTART;TZID=America/Chicago:20251124T075000
DTEND;TZID=America/Chicago:20251124T075000
DTSTAMP:20260421T081321
CREATED:20250930T233539Z
LAST-MODIFIED:20251020T181619Z
UID:7015-1763970600-1763970600@vlscrusaders.org
SUMMARY:Thanksgiving Break - No School
DESCRIPTION:
URL:https://vlscrusaders.org/event/thanksgiving-break-no-school/
LOCATION:Valley Lutheran School\, 4520 Rownd Street\, Cedar Falls\, 50613\, United States
END:VEVENT
BEGIN:VEVENT
DTSTART;TZID=America/Chicago:20251125T075000
DTEND;TZID=America/Chicago:20251125T075000
DTSTAMP:20260421T081321
CREATED:20250930T233539Z
LAST-MODIFIED:20251020T181627Z
UID:7016-1764057000-1764057000@vlscrusaders.org
SUMMARY:Thanksgiving Break - No School
DESCRIPTION:
URL:https://vlscrusaders.org/event/thanksgiving-break-no-school-2/
LOCATION:Valley Lutheran School\, 4520 Rownd Street\, Cedar Falls\, 50613\, United States
END:VEVENT
BEGIN:VEVENT
DTSTART;TZID=America/Chicago:20251126T075000
DTEND;TZID=America/Chicago:20251126T075000
DTSTAMP:20260421T081321
CREATED:20250930T233541Z
LAST-MODIFIED:20251020T181638Z
UID:7021-1764143400-1764143400@vlscrusaders.org
SUMMARY:Thanksgiving Break - No School
DESCRIPTION:
URL:https://vlscrusaders.org/event/thanksgiving-break-no-school-3/
LOCATION:Valley Lutheran School\, 4520 Rownd Street\, Cedar Falls\, 50613\, United States
END:VEVENT
BEGIN:VEVENT
DTSTART;TZID=America/Chicago:20251127T075000
DTEND;TZID=America/Chicago:20251127T075000
DTSTAMP:20260421T081321
CREATED:20250930T233541Z
LAST-MODIFIED:20251020T181648Z
UID:7022-1764229800-1764229800@vlscrusaders.org
SUMMARY:Thanksgiving Break - No School
DESCRIPTION:
URL:https://vlscrusaders.org/event/thanksgiving-break-no-school-4/
LOCATION:Valley Lutheran School\, 4520 Rownd Street\, Cedar Falls\, 50613\, United States
END:VEVENT
BEGIN:VEVENT
DTSTART;TZID=America/Chicago:20251128T075000
DTEND;TZID=America/Chicago:20251128T075000
DTSTAMP:20260421T081321
CREATED:20250930T233541Z
LAST-MODIFIED:20251020T181657Z
UID:7023-1764316200-1764316200@vlscrusaders.org
SUMMARY:Thanksgiving Break - No School
DESCRIPTION:
URL:https://vlscrusaders.org/event/thanksgiving-break-no-school-5/
LOCATION:Valley Lutheran School\, 4520 Rownd Street\, Cedar Falls\, 50613\, United States
END:VEVENT
BEGIN:VEVENT
DTSTART;TZID=America/Chicago:20251202T160000
DTEND;TZID=America/Chicago:20251202T160000
DTSTAMP:20260421T081321
CREATED:20250930T233556Z
LAST-MODIFIED:20251020T181703Z
UID:7025-1764691200-1764691200@vlscrusaders.org
SUMMARY:Junior Varsity Girls Basketball
DESCRIPTION:GMG vs Valley Lutheran
URL:https://vlscrusaders.org/event/junior-varsity-girls-basketball/
LOCATION:Valley Lutheran School\, 4520 Rownd Street\, Cedar Falls\, 50613\, United States
CATEGORIES:Basketball,Girls Athletics
END:VEVENT
END:VCALENDAR